BEGIN:VCALENDAR
VERSION:2.0
PRODID:-//Espacio Mujer Madrid EMMA - ECPv6.10.3//NONSGML v1.0//EN
CALSCALE:GREGORIAN
METHOD:PUBLISH
X-ORIGINAL-URL:https://www.espaciomujermadrid.es
X-WR-CALDESC:Eventos para Espacio Mujer Madrid EMMA
REFRESH-INTERVAL;VALUE=DURATION:PT1H
X-Robots-Tag:noindex
X-PUBLISHED-TTL:PT1H
BEGIN:VTIMEZONE
TZID:Europe/Madrid
BEGIN:DAYLIGHT
TZOFFSETFROM:+0100
TZOFFSETTO:+0200
TZNAME:CEST
DTSTART:20250330T010000
END:DAYLIGHT
BEGIN:STANDARD
TZOFFSETFROM:+0200
TZOFFSETTO:+0100
TZNAME:CET
DTSTART:20251026T010000
END:STANDARD
END:VTIMEZONE
BEGIN:VEVENT
DTSTART;TZID=Europe/Madrid:20250114T173000
DTEND;TZID=Europe/Madrid:20250114T193000
DTSTAMP:20260423T152315
CREATED:20241223T184332Z
LAST-MODIFIED:20250108T092714Z
UID:5075-1736875800-1736883000@www.espaciomujermadrid.es
SUMMARY:Taller sobre Motivación para la Búsqueda Activa de Empleo
DESCRIPTION:La finalidad de esta sesión consiste en entender el término de motivación y reflexionar sobre cómo influye en el proceso de búsqueda de empleo. ¿Qué significa estar motivada? ¿Cómo influye la motivación en el proceso de búsqueda de empleo? \nExplicaremos los tipos de motivación que existen y los principales factores y barreras que afectan a la misma: emocionales\, psicológicos\, sociales y personales. \nTambién abordaremos estrategias para mantener la motivación y ayudaremos a las participantes para identificar y transformar creencias limitantes que puedan reducir su motivación mediante un ejercicio de reestructuración cognitiva. El taller será dinámico y estimulante. \n			\n			\n				\n				\n				\n				\n			\n				\n				\n				\n				\n				\n				\n				\n				\n				\n				\n				Inscríbete\n			\n			\n				\n				\n				\n				\n				\n			\n				\n				\n				\n				\n				\n			\n				\n				\n				\n				\n			\n				\n				\n				\n				\n				\n				\n				Formulario de inscripción
URL:https://www.espaciomujermadrid.es/evento/taller-sobre-motivacion-para-la-busqueda-activa-de-empleo/
LOCATION:EMMA – Espacio Mujer Madrid\, C/ Martos\, 185\, Madrid\, Madrid Province\, 28850\, Spain
END:VEVENT
END:VCALENDAR