BEGIN:VCALENDAR
VERSION:2.0
PRODID:-//Espacio Mujer Madrid EMMA - ECPv6.10.3//NONSGML v1.0//EN
CALSCALE:GREGORIAN
METHOD:PUBLISH
X-WR-CALNAME:Espacio Mujer Madrid EMMA
X-ORIGINAL-URL:https://www.espaciomujermadrid.es
X-WR-CALDESC:Eventos para Espacio Mujer Madrid EMMA
REFRESH-INTERVAL;VALUE=DURATION:PT1H
X-Robots-Tag:noindex
X-PUBLISHED-TTL:PT1H
BEGIN:VTIMEZONE
TZID:Europe/Madrid
BEGIN:DAYLIGHT
TZOFFSETFROM:+0100
TZOFFSETTO:+0200
TZNAME:CEST
DTSTART:20250330T010000
END:DAYLIGHT
BEGIN:STANDARD
TZOFFSETFROM:+0200
TZOFFSETTO:+0100
TZNAME:CET
DTSTART:20251026T010000
END:STANDARD
END:VTIMEZONE
BEGIN:VEVENT
DTSTART;TZID=Europe/Madrid:20250210T093000
DTEND;TZID=Europe/Madrid:20250221T143000
DTSTAMP:20260422T123446
CREATED:20250123T101606Z
LAST-MODIFIED:20250123T101606Z
UID:5237-1739179800-1740148200@www.espaciomujermadrid.es
SUMMARY:Curso de Pastelería
DESCRIPTION:Descubre el Arte de la Pastelería y Repostería \nAdéntrate en el mundo de la pastelería y la repostería con nuestro curso diseñado para aprender desde la base. Conocerás las materias primas esenciales\, su correcto uso y los métodos de conservación que garantizan la máxima calidad en tus creaciones. Este curso te permitirá familiarizarte con los ingredientes clave y sus propiedades\, ofreciéndote las herramientas necesarias para combinarlos de manera perfecta en cada receta. \nAprenderás técnicas fundamentales como el horneo\, la manipulación y la elaboración de masas\, cremas\, tartas\, galletas y más. Descubre los secretos detrás de texturas esponjosas\, masas con volumen y una consistencia impecable\, explorando los tiempos y temperaturas adecuados para cada preparación. \n			\n			\n				\n				\n				\n				\n			\n				\n				\n				\n				\n				\n				\n				\n				\n				\n				\n				Inscríbete\n			\n			\n				\n				\n				\n				\n				\n			\n				\n				\n				\n				\n				\n			\n				\n				\n				\n				\n			\n				\n				\n				\n				\n				\n				\n				Formulario de inscripción
URL:https://www.espaciomujermadrid.es/evento/curso-de-pasteleria/
LOCATION:EMMA – Espacio Mujer Madrid\, C/ Martos\, 185\, Madrid\, Madrid Province\, 28850\, Spain
END:VEVENT
BEGIN:VEVENT
DTSTART;TZID=Europe/Madrid:20250211T103000
DTEND;TZID=Europe/Madrid:20250211T123000
DTSTAMP:20260422T123447
CREATED:20250120T102349Z
LAST-MODIFIED:20250124T091028Z
UID:5193-1739269800-1739277000@www.espaciomujermadrid.es
SUMMARY:Taller de Planificación y Gestión del Tiempo
DESCRIPTION:En este taller hablaremos de maneras de optimizar nuestra planificación de los tiempos\, analizando con perspectiva de género la raíz de la diferenciación de la gestión del tiempo entre hombres y mujeres\, abordando temas como la  carga mental\, la doble o triple jornada\, la corresponsabilidad y conciliación. \nAdemás\, también se aportarán consejos y trucos para poder mejorar estos procesos. \n			\n			\n				\n				\n				\n				\n			\n				\n				\n				\n				\n				\n				\n				\n				\n				\n				\n				Inscríbete\n			\n			\n				\n				\n				\n				\n				\n			\n				\n				\n				\n				\n				\n			\n				\n				\n				\n				\n			\n				\n				\n				\n				\n				\n				\n				Formulario de inscripción
URL:https://www.espaciomujermadrid.es/evento/taller-de-planificacion-y-gestion-del-tiempo/
LOCATION:EMMA – Espacio Mujer Madrid\, C/ Martos\, 185\, Madrid\, Madrid Province\, 28850\, Spain
END:VEVENT
END:VCALENDAR