BEGIN:VCALENDAR
VERSION:2.0
PRODID:-//Espacio Mujer Madrid EMMA - ECPv6.10.3//NONSGML v1.0//EN
CALSCALE:GREGORIAN
METHOD:PUBLISH
X-WR-CALNAME:Espacio Mujer Madrid EMMA
X-ORIGINAL-URL:https://www.espaciomujermadrid.es
X-WR-CALDESC:Eventos para Espacio Mujer Madrid EMMA
REFRESH-INTERVAL;VALUE=DURATION:PT1H
X-Robots-Tag:noindex
X-PUBLISHED-TTL:PT1H
BEGIN:VTIMEZONE
TZID:Europe/Madrid
BEGIN:DAYLIGHT
TZOFFSETFROM:+0100
TZOFFSETTO:+0200
TZNAME:CEST
DTSTART:20250330T010000
END:DAYLIGHT
BEGIN:STANDARD
TZOFFSETFROM:+0200
TZOFFSETTO:+0100
TZNAME:CET
DTSTART:20251026T010000
END:STANDARD
END:VTIMEZONE
BEGIN:VEVENT
DTSTART;TZID=Europe/Madrid:20250331T153000
DTEND;TZID=Europe/Madrid:20250404T193000
DTSTAMP:20260423T121727
CREATED:20250304T125449Z
LAST-MODIFIED:20250319T155302Z
UID:5566-1743435000-1743795000@www.espaciomujermadrid.es
SUMMARY:Curso de Auxiliar de Colectividades
DESCRIPTION:Fórmate para trabajar en cocina colectiva y servicios de alimentación \nEl curso de Auxiliar de Colectividades te preparará para gestionar la preparación de alimentos en grandes volúmenes\, aplicando técnicas específicas para cocina colectiva y planificación de menús equilibrados. \n¿Qué aprenderás? \n\nElaboración de menús saludables y balanceados.\nTécnicas de cocina para grandes colectividades.\nManejo de porciones y optimización de recursos.\nGarantía de calidad y seguridad alimentaria en cada plato.\n\nSalidas profesionales: \n\nComedores escolares.\nResidencias y hospitales.\nEmpresas de catering.\nServicios de alimentación colectiva.\n\nInscríbete y accede a nuevas oportunidades laborales en el sector alimentario. \n			\n			\n				\n				\n				\n				\n			\n				\n				\n				\n				\n				\n				\n				\n				\n				\n				\n				Inscríbete\n			\n			\n				\n				\n				\n				\n				\n			\n				\n				\n				\n				\n				\n			\n				\n				\n				\n				\n			\n				\n				\n				\n				\n				\n				\n				Formulario de inscripción
URL:https://www.espaciomujermadrid.es/evento/curso-de-auxiliar-de-colectividades/
LOCATION:EMMA – Espacio Mujer Madrid\, C/ Martos\, 185\, Madrid\, Madrid Province\, 28850\, Spain
END:VEVENT
END:VCALENDAR