BEGIN:VCALENDAR
VERSION:2.0
PRODID:-//Espacio Mujer Madrid EMMA - ECPv6.10.3//NONSGML v1.0//EN
CALSCALE:GREGORIAN
METHOD:PUBLISH
X-WR-CALNAME:Espacio Mujer Madrid EMMA
X-ORIGINAL-URL:https://www.espaciomujermadrid.es
X-WR-CALDESC:Eventos para Espacio Mujer Madrid EMMA
REFRESH-INTERVAL;VALUE=DURATION:PT1H
X-Robots-Tag:noindex
X-PUBLISHED-TTL:PT1H
BEGIN:VTIMEZONE
TZID:Europe/Madrid
BEGIN:DAYLIGHT
TZOFFSETFROM:+0100
TZOFFSETTO:+0200
TZNAME:CEST
DTSTART:20250330T010000
END:DAYLIGHT
BEGIN:STANDARD
TZOFFSETFROM:+0200
TZOFFSETTO:+0100
TZNAME:CET
DTSTART:20251026T010000
END:STANDARD
END:VTIMEZONE
BEGIN:VEVENT
DTSTART;TZID=Europe/Madrid:20250331T153000
DTEND;TZID=Europe/Madrid:20250404T193000
DTSTAMP:20260419T171846
CREATED:20250304T125449Z
LAST-MODIFIED:20250319T155302Z
UID:5566-1743435000-1743795000@www.espaciomujermadrid.es
SUMMARY:Curso de Auxiliar de Colectividades
DESCRIPTION:Fórmate para trabajar en cocina colectiva y servicios de alimentación \nEl curso de Auxiliar de Colectividades te preparará para gestionar la preparación de alimentos en grandes volúmenes\, aplicando técnicas específicas para cocina colectiva y planificación de menús equilibrados. \n¿Qué aprenderás? \n\nElaboración de menús saludables y balanceados.\nTécnicas de cocina para grandes colectividades.\nManejo de porciones y optimización de recursos.\nGarantía de calidad y seguridad alimentaria en cada plato.\n\nSalidas profesionales: \n\nComedores escolares.\nResidencias y hospitales.\nEmpresas de catering.\nServicios de alimentación colectiva.\n\nInscríbete y accede a nuevas oportunidades laborales en el sector alimentario. \n			\n			\n				\n				\n				\n				\n			\n				\n				\n				\n				\n				\n				\n				\n				\n				\n				\n				Inscríbete\n			\n			\n				\n				\n				\n				\n				\n			\n				\n				\n				\n				\n				\n			\n				\n				\n				\n				\n			\n				\n				\n				\n				\n				\n				\n				Formulario de inscripción
URL:https://www.espaciomujermadrid.es/evento/curso-de-auxiliar-de-colectividades/
LOCATION:EMMA – Espacio Mujer Madrid\, C/ Martos\, 185\, Madrid\, Madrid Province\, 28850\, Spain
END:VEVENT
BEGIN:VEVENT
DTSTART;TZID=Europe/Madrid:20250401T103000
DTEND;TZID=Europe/Madrid:20250401T123000
DTSTAMP:20260419T171846
CREATED:20250327T181354Z
LAST-MODIFIED:20250327T182537Z
UID:5665-1743503400-1743510600@www.espaciomujermadrid.es
SUMMARY:Taller de Prevención de Riesgos Laborales
DESCRIPTION:Este taller tiene como objetivo sensibilizar sobre la necesidad de integrar la perspectiva de género en las políticas de salud y seguridad laboral\, enfocándose en las desigualdades y riesgos específicos que enfrentan las mujeres en el ámbito laboral. Durante la sesión\, se abordarán temas clave como la prevención de la salud laboral de las mujeres\, los efectos negativos de la desigualdad de género ensu bienestar y las implicaciones de la brecha de género en el entorno laboral. \nSe hablará sobre los riesgos laborales asociados a las desigualdades de género\, especialmente aquellos que afectan a las trabajadoras en diversos sectores. \nAdemás\, se profundizará en la violencia contra las mujeres en el ámbito laboral\, incluyendo el acoso sexual y otras formas de violencia\, que afectan tanto la seguridad física como emocional de las trabajadoras. Se presentarán los protocolos de actuación necesarios para prevenir y abordar estos problemas\, destacando la importancia de crear un entorno laboral seguro\, inclusivo y libre de violencia para todas las personas\, independientemente de su género. \n			\n			\n				\n				\n				\n				\n			\n				\n				\n				\n				\n				\n				\n				\n				\n				\n				\n				Inscríbete\n			\n			\n				\n				\n				\n				\n				\n			\n				\n				\n				\n				\n				\n			\n				\n				\n				\n				\n			\n				\n				\n				\n				\n				\n				\n				Formulario de inscripción
URL:https://www.espaciomujermadrid.es/evento/taller-de-prevencion-de-riesgos-laborales/
LOCATION:EMMA – Espacio Mujer Madrid\, C/ Martos\, 185\, Madrid\, Madrid Province\, 28850\, Spain
END:VEVENT
BEGIN:VEVENT
DTSTART;TZID=Europe/Madrid:20250401T173000
DTEND;TZID=Europe/Madrid:20250410T193000
DTSTAMP:20260419T171846
CREATED:20250331T083959Z
LAST-MODIFIED:20250331T083959Z
UID:5760-1743528600-1744313400@www.espaciomujermadrid.es
SUMMARY:Curso de Empoderamiento Digital Básico
DESCRIPTION:Os presentamos este Curso de Empoderamiento Digital Básico en el que podréis aprender a manejar vuestro teléfono móvil. Para todas aquellas que tenéis la sensación de que no sabéis bien manejar vuestro propio teléfono y os acercáis a él con miedo e intentando tocar solo las aplicaciones imprescindibles\, ha llegado vuestro curso. Se trata de 8 horas impartidas por la Fundación Orange distribuídas los martes y los jueves de 17.30 a 19.30 del 1 al 10 de abril dentro del Espacio Mujer Madrid.  \n¡¡No dudes en apuntarte que las plazas vuelan!!  \n			\n			\n				\n				\n				\n				\n			\n				\n				\n				\n				\n				\n				\n				\n				\n				\n				\n				Inscríbete\n			\n			\n				\n				\n				\n				\n				\n			\n				\n				\n				\n				\n				\n			\n				\n				\n				\n				\n			\n				\n				\n				\n				\n				\n				\n				Inscripción\n			\n			\n				\n				\n				\n				\n				\n				\n				\n				\n				\n				\n			\n			\n				\n				\n				\n				\n			\n				\n				\n				\n				\n				\n				\n				\n				\n				\n				\n				Inscripciones:\nTlf. 91 785 62 34\nemma@fundacionjosemariadellanos.es
URL:https://www.espaciomujermadrid.es/evento/curso-de-empoderamiento-digital-basico/
LOCATION:EMMA – Espacio Mujer Madrid\, C/ Martos\, 185\, Madrid\, Madrid Province\, 28850\, Spain
END:VEVENT
END:VCALENDAR