BEGIN:VCALENDAR
VERSION:2.0
PRODID:-//Espacio Mujer Madrid EMMA - ECPv6.10.3//NONSGML v1.0//EN
CALSCALE:GREGORIAN
METHOD:PUBLISH
X-WR-CALNAME:Espacio Mujer Madrid EMMA
X-ORIGINAL-URL:https://www.espaciomujermadrid.es
X-WR-CALDESC:Eventos para Espacio Mujer Madrid EMMA
REFRESH-INTERVAL;VALUE=DURATION:PT1H
X-Robots-Tag:noindex
X-PUBLISHED-TTL:PT1H
BEGIN:VTIMEZONE
TZID:Europe/Madrid
BEGIN:DAYLIGHT
TZOFFSETFROM:+0100
TZOFFSETTO:+0200
TZNAME:CEST
DTSTART:20250330T010000
END:DAYLIGHT
BEGIN:STANDARD
TZOFFSETFROM:+0200
TZOFFSETTO:+0100
TZNAME:CET
DTSTART:20251026T010000
END:STANDARD
END:VTIMEZONE
BEGIN:VEVENT
DTSTART;TZID=Europe/Madrid:20250422T153000
DTEND;TZID=Europe/Madrid:20250428T193000
DTSTAMP:20260419T184150
CREATED:20250402T074112Z
LAST-MODIFIED:20250402T074536Z
UID:5830-1745335800-1745868600@www.espaciomujermadrid.es
SUMMARY:Curso de Heladería
DESCRIPTION:Descubre el mundo de la heladería y aprende a elaborar helados\, sorbetes y otras creaciones con técnicas profesionales. En este curso\, explorarás desde la selección de ingredientes hasta la conservación y presentación de cada producto\, garantizando sabor\, textura y calidad. \nEste curso está diseñado tanto para quienes desean iniciarse en el sector como para aquellas personas que buscan nuevas oportunidades laborales en heladerías\, pastelerías o la industria alimentaria. Con un enfoque práctico y dinámico\, te brindaremos las herramientas necesarias para emprender o desarrollarte en un sector con alta demanda. Inscríbete y da el primer paso hacia tu futuro profesional. \n. \n			\n			\n				\n				\n				\n				\n			\n				\n				\n				\n				\n				\n				\n				\n				\n				\n				\n				Inscríbete\n			\n			\n				\n				\n				\n				\n				\n			\n				\n				\n				\n				\n				\n			\n				\n				\n				\n				\n			\n				\n				\n				\n				\n				\n				\n				Formulario de inscripción
URL:https://www.espaciomujermadrid.es/evento/curso-de-heladeria/
LOCATION:EMMA – Espacio Mujer Madrid\, C/ Martos\, 185\, Madrid\, Madrid Province\, 28850\, Spain
ORGANIZER;CN="SENDERAS":MAILTO:senderas@fundacionjosemariadellanos.es
END:VEVENT
BEGIN:VEVENT
DTSTART;TZID=Europe/Madrid:20250422T170000
DTEND;TZID=Europe/Madrid:20250610T190000
DTSTAMP:20260419T184151
CREATED:20250402T085938Z
LAST-MODIFIED:20250402T085939Z
UID:5859-1745341200-1749582000@www.espaciomujermadrid.es
SUMMARY:Taller de Mindfulness
DESCRIPTION:Os presentamos este nuevo Taller de Mindfulness que comenzará el día 22 de abril en el EMMA.  \nEl taller tendrá lugar los martes desde el 22 de abril hasta el 10 de junio en horario de 17:00 a 19:00. \nEn este taller nos adentraremos en el mindfulness\, una técnica de meditación con la que podremos aprender a conocernos más desde la apertura y la aceptación.  \nSi necesitas encontrar un espacio que poder dedicarte a ti misma\, ¡Este es tu taller! \nPara consultarnos cualquier duda o para realizar inscripciones\, sólo tienes que enviar un correo electrónico o llamarnos por teléfono al 917856234\, facilitándonos vuestro NOMBRE COMPLETO y NÚMERO DE TELÉFONO.  \n¡Os esperamos! \n			\n			\n				\n				\n				\n				\n			\n				\n				\n				\n				\n				\n				\n				\n				\n				\n				\n				Inscríbete\n			\n			\n				\n				\n				\n				\n				\n			\n				\n				\n				\n				\n				\n			\n				\n				\n				\n				\n			\n				\n				\n				\n				\n				\n				\n				Inscripción\n			\n			\n				\n				\n				\n				\n				\n				\n				\n				\n				\n				\n			\n			\n				\n				\n				\n				\n			\n				\n				\n				\n				\n				\n				\n				\n				\n				\n				\n				Inscripciones:\nTlf. 91 785 62 34\nemma@fundacionjosemariadellanos.es
URL:https://www.espaciomujermadrid.es/evento/taller-de-mindfulness/
LOCATION:EMMA – Espacio Mujer Madrid\, C/ Martos\, 185\, Madrid\, Madrid Province\, 28850\, Spain
END:VEVENT
BEGIN:VEVENT
DTSTART;TZID=Europe/Madrid:20250423T100000
DTEND;TZID=Europe/Madrid:20250425T124500
DTSTAMP:20260419T184151
CREATED:20250402T090600Z
LAST-MODIFIED:20250402T090600Z
UID:5863-1745402400-1745585100@www.espaciomujermadrid.es
SUMMARY:Aprende a usar las Redes Sociales
DESCRIPTION:Te presentamos el Taller de TIC\, Aprende a usar las redes sociales. ¿Tienes la sensación de que te quedas atrás con las redes sociales? ¿Quieres sentirte más conectada con tus seres queridos o quieres entender por qué es tu tema que interesa tanto a tus hijos/as? \nEn este taller de dos sesiones\, miércoles 23 y viernes 25 de abril de 10.00 a 12.45\, podrás resolver todas tus dudas.  \n¡Ya verás qué útil\, no te lo pierdas! \nPara consultarnos cualquier duda o para realizar inscripciones\, sólo tienes que enviar un correo electrónico o llamarnos por teléfono al 917856234\, facilitándonos vuestro NOMBRE COMPLETO y NÚMERO DE TELÉFONO.  \n¡Os esperamos! \n			\n			\n				\n				\n				\n				\n			\n				\n				\n				\n				\n				\n				\n				\n				\n				\n				\n				Inscríbete\n			\n			\n				\n				\n				\n				\n				\n			\n				\n				\n				\n				\n				\n			\n				\n				\n				\n				\n			\n				\n				\n				\n				\n				\n				\n				Inscripción\n			\n			\n				\n				\n				\n				\n				\n				\n				\n				\n				\n				\n			\n			\n				\n				\n				\n				\n			\n				\n				\n				\n				\n				\n				\n				\n				\n				\n				\n				Inscripciones:\nTlf. 91 785 62 34\nemma@fundacionjosemariadellanos.es
URL:https://www.espaciomujermadrid.es/evento/aprende-a-usar-las-redes-sociales/
LOCATION:EMMA – Espacio Mujer Madrid\, C/ Martos\, 185\, Madrid\, Madrid Province\, 28850\, Spain
END:VEVENT
BEGIN:VEVENT
DTSTART;TZID=Europe/Madrid:20250424T100000
DTEND;TZID=Europe/Madrid:20250424T120000
DTSTAMP:20260419T184151
CREATED:20250411T110705Z
LAST-MODIFIED:20250411T110705Z
UID:5905-1745488800-1745496000@www.espaciomujermadrid.es
SUMMARY:Taller de búsqueda de Empleo
DESCRIPTION:Os invitamos a este nuevo Seminario de Orientación sociolaboral en el que vamos a poder resolver todas nuestra dudas sobre qué es y cómo funciona exactamente la Agencia para el empleo.  \nLa sesión será impartida por Paloma Pérez\, técnica de empleo de la Agencia para el Empleo de Puente de Vallecas quien acudirá para explicarnos el funcionamiento y las características generales de este servicio. \nTendrá lugar el jueves 24 de abril en horario de 10:00 a 12:00 horas.   \nNo lo dudes y anótate para reservar tu plaza. \nPara consultarnos cualquier duda o para realizar inscripciones\, sólo tienes que enviar un correo electrónico o llamarnos por teléfono al 917856234\, facilitándonos vuestro NOMBRE COMPLETO y NÚMERO DE TELÉFONO.  \n¡Te esperamos! \n			\n			\n				\n				\n				\n				\n			\n				\n				\n				\n				\n				\n				\n				\n				\n				\n				\n				Inscríbete\n			\n			\n				\n				\n				\n				\n				\n			\n				\n				\n				\n				\n				\n			\n				\n				\n				\n				\n			\n				\n				\n				\n				\n				\n				\n				Inscripción\n			\n			\n				\n				\n				\n				\n				\n				\n				\n				\n				\n				\n			\n			\n				\n				\n				\n				\n			\n				\n				\n				\n				\n				\n				\n				\n				\n				\n				\n				Inscripciones:\nTlf. 91 785 62 34\nemma@fundacionjosemariadellanos.es
URL:https://www.espaciomujermadrid.es/evento/taller-de-busqueda-de-empleo/
LOCATION:EMMA – Espacio Mujer Madrid\, C/ Martos\, 185\, Madrid\, Madrid Province\, 28850\, Spain
END:VEVENT
BEGIN:VEVENT
DTSTART;TZID=Europe/Madrid:20250424T103000
DTEND;TZID=Europe/Madrid:20250424T123000
DTSTAMP:20260419T184151
CREATED:20250408T142042Z
LAST-MODIFIED:20250408T142042Z
UID:5887-1745490600-1745497800@www.espaciomujermadrid.es
SUMMARY:Taller de Planificación y Gestión del Tiempo
DESCRIPTION:En este taller hablaremos de maneras de optimizar nuestra planificación de los tiempos\, analizando con perspectiva de género la raíz de la diferenciación de la gestión del tiempo entre hombres y mujeres\, abordando temas como la carga mental\, la doble o triple jornada\, la corresponsabilidad y conciliación. \nAdemás\, también se aportarán consejos y trucos para poder mejorar estos procesos. \n			\n			\n				\n				\n				\n				\n			\n				\n				\n				\n				\n				\n				\n				\n				\n				\n				\n				Inscríbete\n			\n			\n				\n				\n				\n				\n				\n			\n				\n				\n				\n				\n				\n			\n				\n				\n				\n				\n			\n				\n				\n				\n				\n				\n				\n				Formulario de inscripción
URL:https://www.espaciomujermadrid.es/evento/taller-de-planificacion-y-gestion-del-tiempo-2/
LOCATION:EMMA – Espacio Mujer Madrid\, C/ Martos\, 185\, Madrid\, Madrid Province\, 28850\, Spain
END:VEVENT
END:VCALENDAR