BEGIN:VCALENDAR
VERSION:2.0
PRODID:-//Espacio Mujer Madrid EMMA - ECPv6.10.3//NONSGML v1.0//EN
CALSCALE:GREGORIAN
METHOD:PUBLISH
X-WR-CALNAME:Espacio Mujer Madrid EMMA
X-ORIGINAL-URL:https://www.espaciomujermadrid.es
X-WR-CALDESC:Eventos para Espacio Mujer Madrid EMMA
REFRESH-INTERVAL;VALUE=DURATION:PT1H
X-Robots-Tag:noindex
X-PUBLISHED-TTL:PT1H
BEGIN:VTIMEZONE
TZID:Europe/Madrid
BEGIN:DAYLIGHT
TZOFFSETFROM:+0100
TZOFFSETTO:+0200
TZNAME:CEST
DTSTART:20250330T010000
END:DAYLIGHT
BEGIN:STANDARD
TZOFFSETFROM:+0200
TZOFFSETTO:+0100
TZNAME:CET
DTSTART:20251026T010000
END:STANDARD
END:VTIMEZONE
BEGIN:VEVENT
DTSTART;TZID=Europe/Madrid:20250422T170000
DTEND;TZID=Europe/Madrid:20250610T190000
DTSTAMP:20260423T104808
CREATED:20250402T085938Z
LAST-MODIFIED:20250402T085939Z
UID:5859-1745341200-1749582000@www.espaciomujermadrid.es
SUMMARY:Taller de Mindfulness
DESCRIPTION:Os presentamos este nuevo Taller de Mindfulness que comenzará el día 22 de abril en el EMMA.  \nEl taller tendrá lugar los martes desde el 22 de abril hasta el 10 de junio en horario de 17:00 a 19:00. \nEn este taller nos adentraremos en el mindfulness\, una técnica de meditación con la que podremos aprender a conocernos más desde la apertura y la aceptación.  \nSi necesitas encontrar un espacio que poder dedicarte a ti misma\, ¡Este es tu taller! \nPara consultarnos cualquier duda o para realizar inscripciones\, sólo tienes que enviar un correo electrónico o llamarnos por teléfono al 917856234\, facilitándonos vuestro NOMBRE COMPLETO y NÚMERO DE TELÉFONO.  \n¡Os esperamos! \n			\n			\n				\n				\n				\n				\n			\n				\n				\n				\n				\n				\n				\n				\n				\n				\n				\n				Inscríbete\n			\n			\n				\n				\n				\n				\n				\n			\n				\n				\n				\n				\n				\n			\n				\n				\n				\n				\n			\n				\n				\n				\n				\n				\n				\n				Inscripción\n			\n			\n				\n				\n				\n				\n				\n				\n				\n				\n				\n				\n			\n			\n				\n				\n				\n				\n			\n				\n				\n				\n				\n				\n				\n				\n				\n				\n				\n				Inscripciones:\nTlf. 91 785 62 34\nemma@fundacionjosemariadellanos.es
URL:https://www.espaciomujermadrid.es/evento/taller-de-mindfulness/
LOCATION:EMMA – Espacio Mujer Madrid\, C/ Martos\, 185\, Madrid\, Madrid Province\, 28850\, Spain
END:VEVENT
BEGIN:VEVENT
DTSTART;TZID=Europe/Madrid:20250610T093000
DTEND;TZID=Europe/Madrid:20250613T140000
DTSTAMP:20260423T104808
CREATED:20250529T101031Z
LAST-MODIFIED:20250529T101031Z
UID:6270-1749547800-1749823200@www.espaciomujermadrid.es
SUMMARY:Curso de comercio y atención a la clientela
DESCRIPTION:¿Sientes que lo tuyo es el trato con el cliente? ¿Te gustaría trabajar de teleoperadora o recepcionista? ¿Crees que algo de formación podría ayudarte en la búsqueda de empleo en este sector?  \nSi es así\, os presentamos este nuevo curso intensivo de Comercio y Atención a la clientela.  \nEl taller se impartirá de martes a viernes desde el 10 hasta el 13 de junio en horario de 09:30 a 14:00 y en él podremos adquirir habilidades relacionadas con la atención al cliente y el trato con el público.   \nEs un taller imprescindible si te interesa esta área y estás buscando trabajo ¡No te quedes sin tu plaza! \n			\n			\n				\n				\n				\n				\n			\n				\n				\n				\n				\n				\n				\n				\n				\n				\n				\n				Inscríbete\n			\n			\n				\n				\n				\n				\n				\n			\n				\n				\n				\n				\n				\n			\n				\n				\n				\n				\n			\n				\n				\n				\n				\n				\n				\n				Inscripción\n			\n			\n				\n				\n				\n				\n				\n				\n				\n				\n				\n				\n			\n			\n				\n				\n				\n				\n			\n				\n				\n				\n				\n				\n				\n				\n				\n				\n				\n				Inscripciones:\nTlf. 91 785 62 34\nemma@fundacionjosemariadellanos.es
URL:https://www.espaciomujermadrid.es/evento/curso-de-comercio-y-atencion-a-la-clientela/
LOCATION:Madrid Province
END:VEVENT
BEGIN:VEVENT
DTSTART;TZID=Europe/Madrid:20250610T173000
DTEND;TZID=Europe/Madrid:20250610T193000
DTSTAMP:20260423T104808
CREATED:20250529T101313Z
LAST-MODIFIED:20250529T101313Z
UID:6286-1749576600-1749583800@www.espaciomujermadrid.es
SUMMARY:Taller de expresión artística: Poesía al viento
DESCRIPTION:Te invitamos a este taller de Lectura de Poesía el próximo martes 10 de junio de 17.30 a 19.30. Si te gusta la poesía y disfrutas compartiéndola en grupo\, vas a disfrutar mucho con este espacio literario. Se trata de un micro abierto de poesía\, donde podrás acudir a leer tus propios poemas o los de otras otras autoras.  \nEscríbenos o llámanos para reservar tu plaza y no te quedes sin ella.  \n			\n			\n				\n				\n				\n				\n			\n				\n				\n				\n				\n				\n				\n				\n				\n				\n				\n				Inscríbete\n			\n			\n				\n				\n				\n				\n				\n			\n				\n				\n				\n				\n				\n			\n				\n				\n				\n				\n			\n				\n				\n				\n				\n				\n				\n				Inscripción\n			\n			\n				\n				\n				\n				\n				\n				\n				\n				\n				\n				\n			\n			\n				\n				\n				\n				\n			\n				\n				\n				\n				\n				\n				\n				\n				\n				\n				\n				Inscripciones:\nTlf. 91 785 62 34\nemma@fundacionjosemariadellanos.es
URL:https://www.espaciomujermadrid.es/evento/taller-de-expresion-artistica-poesia-al-viento/
LOCATION:Madrid Province
END:VEVENT
END:VCALENDAR