BEGIN:VCALENDAR
VERSION:2.0
PRODID:-//Espacio Mujer Madrid EMMA - ECPv6.10.3//NONSGML v1.0//EN
CALSCALE:GREGORIAN
METHOD:PUBLISH
X-WR-CALNAME:Espacio Mujer Madrid EMMA
X-ORIGINAL-URL:https://www.espaciomujermadrid.es
X-WR-CALDESC:Eventos para Espacio Mujer Madrid EMMA
REFRESH-INTERVAL;VALUE=DURATION:PT1H
X-Robots-Tag:noindex
X-PUBLISHED-TTL:PT1H
BEGIN:VTIMEZONE
TZID:Europe/Madrid
BEGIN:DAYLIGHT
TZOFFSETFROM:+0100
TZOFFSETTO:+0200
TZNAME:CEST
DTSTART:20250330T010000
END:DAYLIGHT
BEGIN:STANDARD
TZOFFSETFROM:+0200
TZOFFSETTO:+0100
TZNAME:CET
DTSTART:20251026T010000
END:STANDARD
END:VTIMEZONE
BEGIN:VEVENT
DTSTART;TZID=Europe/Madrid:20250616T103000
DTEND;TZID=Europe/Madrid:20250620T133000
DTSTAMP:20260423T104823
CREATED:20250602T075020Z
LAST-MODIFIED:20250602T075020Z
UID:6341-1750069800-1750426200@www.espaciomujermadrid.es
SUMMARY:CURSO: Conecta Digital
DESCRIPTION:Saber desenvolverse en el entorno digital hoy en día es clave para acceder al empleo\, realizar gestiones cotidianas o impulsar un proyecto personal. En el Proyecto Senderas te ofrecemos una oportunidad para que avances a tu ritmo\, con acompañamiento y en un entorno de confianza. \n¿Quieres mejorar tus habilidades digitales para acceder al empleo o impulsar tu proyecto? Conecta Digital es una formación pensada para ti: práctica\, accesible y adaptada a tus ritmos. \n			\n			\n				\n				\n				\n				\n			\n				\n				\n				\n				\n				\n				\n				\n				\n				\n				\n				Inscríbete\n			\n			\n				\n				\n				\n				\n				\n			\n				\n				\n				\n				\n				\n			\n				\n				\n				\n				\n			\n				\n				\n				\n				\n				\n				\n				Formulario de inscripción
URL:https://www.espaciomujermadrid.es/evento/curso-conecta-digital/
LOCATION:EMMA – Espacio Mujer Madrid\, C/ Martos\, 185\, Madrid\, Madrid Province\, 28850\, Spain
ORGANIZER;CN="SENDERAS":MAILTO:senderas@fundacionjosemariadellanos.es
END:VEVENT
BEGIN:VEVENT
DTSTART;TZID=Europe/Madrid:20250617T100000
DTEND;TZID=Europe/Madrid:20250617T120000
DTSTAMP:20260423T104823
CREATED:20250609T080835Z
LAST-MODIFIED:20250609T080835Z
UID:6368-1750154400-1750161600@www.espaciomujermadrid.es
SUMMARY:Visita Oficina de Empleo de Puente de Vallecas
DESCRIPTION:Tenemos el placer de invitaros a un Seminario de Orientación sociolaboral en la que vamos a poder acudir en persona a las Oficinas de Empleo de Puente de Vallecas\, en la calle Francisco Iglesias número 9-11.  \nTendrá lugar el martes 17 de junio en horario de 10:00  a 12:00 horas. Nos servirá para resolver duda tales como: \n\n¿Qué es y para qué nos sirve la demanda de empleo y porque es importante su renovación?\n¿Puedo pedir cita o ser atendida en cualquier oficina de empleo o tengo una asignada?\nFuncionamiento de la oficina virtual de empleo\, cómo sacarle el mejor partido. Nueva aplicación\, ventajas y funcionamiento. \n¿Qué anota mi técnica/o de empleo cuando me abre “expediente? (datos\, Cv\, categorías laborales…) ¿Por qué es importante una cita presencial?\nFormaciones ofrecidas desde la oficina de empleo y formaciones con compromiso de contratación. \n\nNo lo dudes y anótate para reservar tu plaza para el próximo martes. \n			\n			\n				\n				\n				\n				\n			\n				\n				\n				\n				\n				\n				\n				\n				\n				\n				\n				Inscríbete\n			\n			\n				\n				\n				\n				\n				\n			\n				\n				\n				\n				\n				\n			\n				\n				\n				\n				\n			\n				\n				\n				\n				\n				\n				\n				Inscripción\n			\n			\n				\n				\n				\n				\n				\n				\n				\n				\n				\n				\n			\n			\n				\n				\n				\n				\n			\n				\n				\n				\n				\n				\n				\n				\n				\n				\n				\n				Inscripciones:\nTlf. 91 785 62 34\nemma@fundacionjosemariadellanos.es
URL:https://www.espaciomujermadrid.es/evento/visita-oficina-de-empleo-de-puente-de-vallecas/
LOCATION:EMMA – Espacio Mujer Madrid\, C/ Martos\, 185\, Madrid\, Madrid Province\, 28850\, Spain
END:VEVENT
BEGIN:VEVENT
DTSTART;TZID=Europe/Madrid:20250617T103000
DTEND;TZID=Europe/Madrid:20250617T123000
DTSTAMP:20260423T104823
CREATED:20250602T074407Z
LAST-MODIFIED:20250602T074454Z
UID:6334-1750156200-1750163400@www.espaciomujermadrid.es
SUMMARY:Taller de Identidad y autoestima
DESCRIPTION:En este taller se plantea en primer lugar\, el concepto de autoestima como elemento clave para la construcción de la identidad propia y la imagen que ofrecemos a los demás. La percepción que tenemos sobre nosotras mismas juega un rol fundamental a la hora de enfrentarnos al mundo laboral en muchos ámbitos: desde la forma en la que elaboramos nuestra marca profesional\, la manera en la que abordamos una entrevista de trabajo e incluso cómo afrontamos esos primeros días en un nuevo empleo. \nEn segundo lugar\, realizaremos una reflexión acerca de los efectos que tiene el desempleo en nuestra autoestima a nivel psicológico\, relacional y social. También\, veremos herramientas de utilidad para lidiar con ellos y mantener una relación y diálogo interno más positivo con nosotras mismas. Para abordar estos dos puntos utilizaremos una metodología centrada en el empoderamiento colectivo a través de varias dinámicas de autoconocimiento y refuerzo personal. \n			\n			\n				\n				\n				\n				\n			\n				\n				\n				\n				\n				\n				\n				\n				\n				\n				\n				Inscríbete\n			\n			\n				\n				\n				\n				\n				\n			\n				\n				\n				\n				\n				\n			\n				\n				\n				\n				\n			\n				\n				\n				\n				\n				\n				\n				Formulario de inscripción
URL:https://www.espaciomujermadrid.es/evento/taller-de-identidad-y-autoestima/
LOCATION:EMMA – Espacio Mujer Madrid\, C/ Martos\, 185\, Madrid\, Madrid Province\, 28850\, Spain
ORGANIZER;CN="SENDERAS":MAILTO:senderas@fundacionjosemariadellanos.es
END:VEVENT
BEGIN:VEVENT
DTSTART;TZID=Europe/Madrid:20250617T173000
DTEND;TZID=Europe/Madrid:20250617T193000
DTSTAMP:20260423T104823
CREATED:20250528T220030Z
LAST-MODIFIED:20250528T220030Z
UID:6224-1750181400-1750188600@www.espaciomujermadrid.es
SUMMARY:Teatro: Unas hieren y otras matan
DESCRIPTION:El grupo Teatrame nos presenta su versión de «Todas hieren y una mata»\, la divertida comedia  de capa y espada de Álvaro Tato pero escrita en el siglo XXI. Con un toque reivindicativo e irónico pero sin dejarse ninguno de los temas universales de la escena\, el amor\, el honor\, la muerte Tato nos invita a realizar un mágico viaje en el tiempo entre dos épocas aparentemente muy distintas. \n			\n			\n				\n				\n				\n				\n			\n				\n				\n				\n				\n				\n				\n				\n				\n				\n				\n				Inscríbete\n			\n			\n				\n				\n				\n				\n				\n			\n				\n				\n				\n				\n				\n			\n				\n				\n				\n				\n			\n				\n				\n				\n				\n				\n				\n				Inscripción\n			\n			\n				\n				\n				\n				\n				\n				\n				\n				\n				\n				\n			\n			\n				\n				\n				\n				\n			\n				\n				\n				\n				\n				\n				\n				\n				\n				\n				\n				Inscripciones:\nTlf. 91 785 62 34\nemma@fundacionjosemariadellanos.es
URL:https://www.espaciomujermadrid.es/evento/teatro-unas-hieren-y-otras-matan/
LOCATION:EMMA – Espacio Mujer Madrid\, C/ Martos\, 185\, Madrid\, Madrid Province\, 28850\, Spain
END:VEVENT
END:VCALENDAR