BEGIN:VCALENDAR
VERSION:2.0
PRODID:-//Espacio Mujer Madrid EMMA - ECPv6.10.3//NONSGML v1.0//EN
CALSCALE:GREGORIAN
METHOD:PUBLISH
X-ORIGINAL-URL:https://www.espaciomujermadrid.es
X-WR-CALDESC:Eventos para Espacio Mujer Madrid EMMA
REFRESH-INTERVAL;VALUE=DURATION:PT1H
X-Robots-Tag:noindex
X-PUBLISHED-TTL:PT1H
BEGIN:VTIMEZONE
TZID:Europe/Madrid
BEGIN:DAYLIGHT
TZOFFSETFROM:+0100
TZOFFSETTO:+0200
TZNAME:CEST
DTSTART:20250330T010000
END:DAYLIGHT
BEGIN:STANDARD
TZOFFSETFROM:+0200
TZOFFSETTO:+0100
TZNAME:CET
DTSTART:20251026T010000
END:STANDARD
END:VTIMEZONE
BEGIN:VEVENT
DTSTART;TZID=Europe/Madrid:20250708T103000
DTEND;TZID=Europe/Madrid:20250708T123000
DTSTAMP:20260419T141935
CREATED:20250626T092844Z
LAST-MODIFIED:20250626T092845Z
UID:6408-1751970600-1751977800@www.espaciomujermadrid.es
SUMMARY:Preparación de entrevistas con Realidad Virtual
DESCRIPTION:Pon en práctica tus habilidades en un entorno virtual simulado y prepárate para tus próximas entrevistas de trabajo con mayor confianza. Durante el taller entrenaremos competencias clave como la comunicación no verbal\, la escucha activa y la gestión emocional. Aprender a relacionarse mejor no es solo una habilidad social: es una herramienta esencial para abrirte paso en el mundo profesional. \nComenzaremos con una dinámica acompañada de un desayuno grupal\, en la que trabajaremos la capacidad de relación desde una mirada práctica\, cercana y vivencial. Una experiencia transformadora para mejorar tu expresión\, entrenar tu seguridad y dar el siguiente paso hacia el empleo. \n			\n			\n				\n				\n				\n				\n			\n				\n				\n				\n				\n				\n				\n				\n				\n				\n				\n				Inscríbete\n			\n			\n				\n				\n				\n				\n				\n			\n				\n				\n				\n				\n				\n			\n				\n				\n				\n				\n			\n				\n				\n				\n				\n				\n				\n				Formulario de inscripción
URL:https://www.espaciomujermadrid.es/evento/preparacion-de-entrevistas-con-realidad-virtual/
LOCATION:EMMA – Espacio Mujer Madrid\, C/ Martos\, 185\, Madrid\, Madrid Province\, 28850\, Spain
ORGANIZER;CN="SENDERAS":MAILTO:senderas@fundacionjosemariadellanos.es
END:VEVENT
END:VCALENDAR