BEGIN:VCALENDAR
VERSION:2.0
PRODID:-//Espacio Mujer Madrid EMMA - ECPv6.10.3//NONSGML v1.0//EN
CALSCALE:GREGORIAN
METHOD:PUBLISH
X-ORIGINAL-URL:https://www.espaciomujermadrid.es
X-WR-CALDESC:Eventos para Espacio Mujer Madrid EMMA
REFRESH-INTERVAL;VALUE=DURATION:PT1H
X-Robots-Tag:noindex
X-PUBLISHED-TTL:PT1H
BEGIN:VTIMEZONE
TZID:Europe/Madrid
BEGIN:DAYLIGHT
TZOFFSETFROM:+0100
TZOFFSETTO:+0200
TZNAME:CEST
DTSTART:20250330T010000
END:DAYLIGHT
BEGIN:STANDARD
TZOFFSETFROM:+0200
TZOFFSETTO:+0100
TZNAME:CET
DTSTART:20251026T010000
END:STANDARD
END:VTIMEZONE
BEGIN:VEVENT
DTSTART;TZID=Europe/Madrid:20250722T173000
DTEND;TZID=Europe/Madrid:20250722T193000
DTSTAMP:20260419T142108
CREATED:20250630T161132Z
LAST-MODIFIED:20250630T161135Z
UID:6452-1753205400-1753212600@www.espaciomujermadrid.es
SUMMARY:Ciclo cine LBT+
DESCRIPTION:Descubriendo\, interiorizando y debatiendo sobre la representación LBT+ en los medios audiovisuales.  \n			\n			\n				\n				\n				\n				\n			\n				\n				\n				\n				\n				\n				\n				\n				\n				\n				\n				Inscríbete\n			\n			\n				\n				\n				\n				\n				\n			\n				\n				\n				\n				\n				\n			\n				\n				\n				\n				\n			\n				\n				\n				\n				\n				\n				\n				Inscripción\n			\n			\n				\n				\n				\n				\n				\n				\n				\n				\n				\n				\n			\n			\n				\n				\n				\n				\n			\n				\n				\n				\n				\n				\n				\n				\n				\n				\n				\n				Inscripciones:\nTlf. 91 785 62 34\nemma@fundacionjosemariadellanos.es
URL:https://www.espaciomujermadrid.es/evento/ciclo-cine-lbt-3/
LOCATION:EMMA – Espacio Mujer Madrid\, C/ Martos\, 185\, Madrid\, Madrid Province\, 28850\, Spain
END:VEVENT
BEGIN:VEVENT
DTSTART;TZID=Europe/Madrid:20250722T173000
DTEND;TZID=Europe/Madrid:20250722T193000
DTSTAMP:20260419T142108
CREATED:20250630T161357Z
LAST-MODIFIED:20250630T161419Z
UID:6455-1753205400-1753212600@www.espaciomujermadrid.es
SUMMARY:Visita al Congreso de las Diputadas
DESCRIPTION:De la mano de la abogada del EMMA visitamos el congreso de las diputadas.  \n			\n			\n				\n				\n				\n				\n			\n				\n				\n				\n				\n				\n				\n				\n				\n				\n				\n				Inscríbete\n			\n			\n				\n				\n				\n				\n				\n			\n				\n				\n				\n				\n				\n			\n				\n				\n				\n				\n			\n				\n				\n				\n				\n				\n				\n				Inscripción\n			\n			\n				\n				\n				\n				\n				\n				\n				\n				\n				\n				\n			\n			\n				\n				\n				\n				\n			\n				\n				\n				\n				\n				\n				\n				\n				\n				\n				\n				Inscripciones:\nTlf. 91 785 62 34\nemma@fundacionjosemariadellanos.es
URL:https://www.espaciomujermadrid.es/evento/visita-al-congreso-de-las-diputadas/
LOCATION:EMMA – Espacio Mujer Madrid\, C/ Martos\, 185\, Madrid\, Madrid Province\, 28850\, Spain
END:VEVENT
END:VCALENDAR