BEGIN:VCALENDAR
VERSION:2.0
PRODID:-//Espacio Mujer Madrid EMMA - ECPv6.10.3//NONSGML v1.0//EN
CALSCALE:GREGORIAN
METHOD:PUBLISH
X-ORIGINAL-URL:https://www.espaciomujermadrid.es
X-WR-CALDESC:Eventos para Espacio Mujer Madrid EMMA
REFRESH-INTERVAL;VALUE=DURATION:PT1H
X-Robots-Tag:noindex
X-PUBLISHED-TTL:PT1H
BEGIN:VTIMEZONE
TZID:Europe/Madrid
BEGIN:DAYLIGHT
TZOFFSETFROM:+0100
TZOFFSETTO:+0200
TZNAME:CEST
DTSTART:20250330T010000
END:DAYLIGHT
BEGIN:STANDARD
TZOFFSETFROM:+0200
TZOFFSETTO:+0100
TZNAME:CET
DTSTART:20251026T010000
END:STANDARD
END:VTIMEZONE
BEGIN:VEVENT
DTSTART;TZID=Europe/Madrid:20250909T103000
DTEND;TZID=Europe/Madrid:20250909T123000
DTSTAMP:20260419T174239
CREATED:20250806T074008Z
LAST-MODIFIED:20250806T074008Z
UID:6512-1757413800-1757421000@www.espaciomujermadrid.es
SUMMARY:Prevención de Riesgos Laborales
DESCRIPTION:Este taller tiene como objetivo sensibilizar sobre la necesidad de integrar la perspectiva de género en las políticas de salud y seguridad laboral\, enfocándose en las desigualdades y riesgos específicos que enfrentan las mujeres en el ámbito laboral. Durante la sesión\, se abordarán temas clave como la prevención de la salud laboral de las mujeres\, los efectos negativos de la desigualdad de género ensu bienestar y las implicaciones de la brecha de género en el entorno laboral. \nSe hablará sobre los riesgos laborales asociados a las desigualdades de género\, especialmente aquellos que afectan a las trabajadoras en diversos sectores. \nAdemás\, se profundizará en la violencia contra las mujeres en el ámbito laboral\, incluyendo el acoso sexual y otras formas de violencia\, que afectan tanto la seguridad física como emocional de las trabajadoras. Se presentarán los protocolos de actuación necesarios para prevenir y abordar estos problemas\, destacando la importancia de crear un entorno laboral seguro\, inclusivo y libre de violencia para todas las personas\, independientemente de su género. \n			\n			\n				\n				\n				\n				\n			\n				\n				\n				\n				\n				\n				\n				\n				\n				\n				\n				Inscríbete\n			\n			\n				\n				\n				\n				\n				\n			\n				\n				\n				\n				\n				\n			\n				\n				\n				\n				\n			\n				\n				\n				\n				\n				\n				\n				Formulario de inscripción
URL:https://www.espaciomujermadrid.es/evento/prevencion-de-riesgos-laborales/
LOCATION:EMMA – Espacio Mujer Madrid\, C/ Martos\, 185\, Madrid\, Madrid Province\, 28850\, Spain
ORGANIZER;CN="SENDERAS":MAILTO:senderas@fundacionjosemariadellanos.es
END:VEVENT
END:VCALENDAR