BEGIN:VCALENDAR
VERSION:2.0
PRODID:-//Espacio Mujer Madrid EMMA - ECPv6.10.3//NONSGML v1.0//EN
CALSCALE:GREGORIAN
METHOD:PUBLISH
X-ORIGINAL-URL:https://www.espaciomujermadrid.es
X-WR-CALDESC:Eventos para Espacio Mujer Madrid EMMA
REFRESH-INTERVAL;VALUE=DURATION:PT1H
X-Robots-Tag:noindex
X-PUBLISHED-TTL:PT1H
BEGIN:VTIMEZONE
TZID:Europe/Madrid
BEGIN:DAYLIGHT
TZOFFSETFROM:+0100
TZOFFSETTO:+0200
TZNAME:CEST
DTSTART:20250330T010000
END:DAYLIGHT
BEGIN:STANDARD
TZOFFSETFROM:+0200
TZOFFSETTO:+0100
TZNAME:CET
DTSTART:20251026T010000
END:STANDARD
END:VTIMEZONE
BEGIN:VEVENT
DTSTART;TZID=Europe/Madrid:20250915T093000
DTEND;TZID=Europe/Madrid:20250926T133000
DTSTAMP:20260419T174148
CREATED:20250806T075938Z
LAST-MODIFIED:20250806T075939Z
UID:6535-1757928600-1758893400@www.espaciomujermadrid.es
SUMMARY:Curso de Barista
DESCRIPTION:Sumérgete en el fascinante mundo del café\, aprendiendo sobre su origen\, variedades y métodos de preparación. Desarrolla habilidades para crear bebidas especiales\, manejar máquinas profesionales y dominar las técnicas de la cafetería\, ofreciendo una experiencia de café única y de calidad. \n			\n			\n				\n				\n				\n				\n			\n				\n				\n				\n				\n				\n				\n				\n				\n				\n				\n				Inscríbete\n			\n			\n				\n				\n				\n				\n				\n			\n				\n				\n				\n				\n				\n			\n				\n				\n				\n				\n			\n				\n				\n				\n				\n				\n				\n				Formulario de inscripción
URL:https://www.espaciomujermadrid.es/evento/curso-de-barista-2/
LOCATION:EMMA – Espacio Mujer Madrid\, C/ Martos\, 185\, Madrid\, Madrid Province\, 28850\, Spain
ORGANIZER;CN="SENDERAS":MAILTO:senderas@fundacionjosemariadellanos.es
END:VEVENT
BEGIN:VEVENT
DTSTART;TZID=Europe/Madrid:20250918T100000
DTEND;TZID=Europe/Madrid:20250918T120000
DTSTAMP:20260419T174148
CREATED:20250829T091735Z
LAST-MODIFIED:20250829T091735Z
UID:6623-1758189600-1758196800@www.espaciomujermadrid.es
SUMMARY:Taller de Búsqueda Activa de Empleo
DESCRIPTION:El jueves 18 de septiembre comenzarán los talleres centrados en la búsqueda activa de empleo (BAE). Los talleres se llevarán a cabo los martes y jueves en horario de 10:00 a 12:00. \nEn las sesiones se abordarán temas como la utilización de herramientas relativas a la búsqueda de empleo\, creación de CV\, utilización de portales de empleo públicos y privados\, etc. \nEs un taller imprescindible si estás buscando trabajo ¡No te lo pierdas! \nEs muy importante acudir con puntualidad a las actividades. \n¡Os esperamos! \n			\n			\n				\n				\n				\n				\n			\n				\n				\n				\n				\n				\n				\n				\n				\n				\n				\n				Inscríbete\n			\n			\n				\n				\n				\n				\n				\n			\n				\n				\n				\n				\n				\n			\n				\n				\n				\n				\n			\n				\n				\n				\n				\n				\n				\n				Inscripción\n			\n			\n				\n				\n				\n				\n				\n				\n				\n				\n				\n				\n			\n			\n				\n				\n				\n				\n			\n				\n				\n				\n				\n				\n				\n				\n				\n				\n				\n				Inscripciones:\nTlf. 91 785 62 34\nemma@fundacionjosemariadellanos.es
URL:https://www.espaciomujermadrid.es/evento/taller-de-busqueda-activa-de-empleo/
LOCATION:Madrid Province
END:VEVENT
BEGIN:VEVENT
DTSTART;TZID=Europe/Madrid:20250918T133000
DTEND;TZID=Europe/Madrid:20250918T153000
DTSTAMP:20260419T174148
CREATED:20250912T120859Z
LAST-MODIFIED:20250912T120859Z
UID:6665-1758202200-1758209400@www.espaciomujermadrid.es
SUMMARY:Escucha activa
DESCRIPTION:Este taller tiene como objetivo potenciar la comunicación a través de la escucha activa y empática. A lo largo de la sesión\, se trabajarán las bases de esta competencia y se explicarán sus ventajas en el día a día. Las participantes descubrirán recursos prácticos para aplicar una escucha más consciente\, que les ayude a concentrarse mejor y a fortalecer sus interacciones con los demás. \n			\n			\n				\n				\n				\n				\n			\n				\n				\n				\n				\n				\n				\n				\n				\n				\n				\n				Inscríbete\n			\n			\n				\n				\n				\n				\n				\n			\n				\n				\n				\n				\n				\n			\n				\n				\n				\n				\n			\n				\n				\n				\n				\n				\n				\n				Formulario de inscripción
URL:https://www.espaciomujermadrid.es/evento/escucha-activa/
LOCATION:EMMA – Espacio Mujer Madrid\, C/ Martos\, 185\, Madrid\, Madrid Province\, 28850\, Spain
ORGANIZER;CN="SENDERAS":MAILTO:senderas@fundacionjosemariadellanos.es
END:VEVENT
BEGIN:VEVENT
DTSTART;TZID=Europe/Madrid:20250918T171500
DTEND;TZID=Europe/Madrid:20250918T184500
DTSTAMP:20260419T174148
CREATED:20250829T092036Z
LAST-MODIFIED:20250829T092036Z
UID:6628-1758215700-1758221100@www.espaciomujermadrid.es
SUMMARY:Taller de Expresión corporal: Cuerpo y movimiento
DESCRIPTION:Os presentamos una nueva edición del Taller Cuerpo y Movimiento\, un taller sobre expresión corporal\, autocuidado y salud física y emocional. \nTendrá lugar los jueves de 17.15 a 18.45\, comenzará el 18 de septiembre y se impartirá hasta diciembre.  \nNo te quedes sin tu plaza y apúntate a esta actividad tan beneficiosa para luchar contra el aburrimiento\, el estrés y la ansiedad.  \nPara realizar inscripciones\, sólo tenéis que contestar a este mismo correo electrónico o llamarnos al 917856234\, facilitándonos vuestro NOMBRE COMPLETO y NÚMERO DE TELÉFONO y esperar a que os confirmemos la plaza.  \nEs imprescindible acudir con puntualidad a las actividades. \n¡Anímate! \n			\n			\n				\n				\n				\n				\n			\n				\n				\n				\n				\n				\n				\n				\n				\n				\n				\n				Inscríbete\n			\n			\n				\n				\n				\n				\n				\n			\n				\n				\n				\n				\n				\n			\n				\n				\n				\n				\n			\n				\n				\n				\n				\n				\n				\n				Inscripción\n			\n			\n				\n				\n				\n				\n				\n				\n				\n				\n				\n				\n			\n			\n				\n				\n				\n				\n			\n				\n				\n				\n				\n				\n				\n				\n				\n				\n				\n				Inscripciones:\nTlf. 91 785 62 34\nemma@fundacionjosemariadellanos.es
URL:https://www.espaciomujermadrid.es/evento/taller-de-expresion-corporal-cuerpo-y-movimiento/
LOCATION:EMMA – Espacio Mujer Madrid\, C/ Martos\, 185\, Madrid\, Madrid Province\, 28850\, Spain
END:VEVENT
END:VCALENDAR