BEGIN:VCALENDAR
VERSION:2.0
PRODID:-//Espacio Mujer Madrid EMMA - ECPv6.10.3//NONSGML v1.0//EN
CALSCALE:GREGORIAN
METHOD:PUBLISH
X-WR-CALNAME:Espacio Mujer Madrid EMMA
X-ORIGINAL-URL:https://www.espaciomujermadrid.es
X-WR-CALDESC:Eventos para Espacio Mujer Madrid EMMA
REFRESH-INTERVAL;VALUE=DURATION:PT1H
X-Robots-Tag:noindex
X-PUBLISHED-TTL:PT1H
BEGIN:VTIMEZONE
TZID:Europe/Madrid
BEGIN:DAYLIGHT
TZOFFSETFROM:+0100
TZOFFSETTO:+0200
TZNAME:CEST
DTSTART:20250330T010000
END:DAYLIGHT
BEGIN:STANDARD
TZOFFSETFROM:+0200
TZOFFSETTO:+0100
TZNAME:CET
DTSTART:20251026T010000
END:STANDARD
END:VTIMEZONE
BEGIN:VEVENT
DTSTART;TZID=Europe/Madrid:20250919T100000
DTEND;TZID=Europe/Madrid:20251010T120000
DTSTAMP:20260421T195933
CREATED:20250829T094138Z
LAST-MODIFIED:20250829T094138Z
UID:6635-1758276000-1760097600@www.espaciomujermadrid.es
SUMMARY:Monográfico de Empoderamiento y Autoestima
DESCRIPTION:Desde el EMMA queremos invitaros a participar en un Monográfico de empoderamiento y autoestima\, un espacio pensado para acompañar procesos de crecimiento personal y colectivo. \nSe desarrollará a lo largo de 4 sesiones\, los viernes de 10.00 a 12.00 horas\, desde el 19 de septiembre hasta el 10 de octubre. \nA través de dinámicas prácticas y reflexivas\, trabajaremos herramientas para fortalecer la confianza\, el autocuidado y el empoderamiento\, con el objetivo de potenciar nuestras capacidades y afrontar los retos del día a día con mayor seguridad. \nSerá una oportunidad para compartir\, aprender y crecer en un entorno cercano y de apoyo mutuo. \nLas plazas son limitadas\, por lo que os animamos a inscribiros cuanto antes. \nEs imprescindible acudir con puntualidad a las actividades. \n¡Os esperamos! \n¡Anímate! \n			\n			\n				\n				\n				\n				\n			\n				\n				\n				\n				\n				\n				\n				\n				\n				\n				\n				Inscríbete\n			\n			\n				\n				\n				\n				\n				\n			\n				\n				\n				\n				\n				\n			\n				\n				\n				\n				\n			\n				\n				\n				\n				\n				\n				\n				Inscripción\n			\n			\n				\n				\n				\n				\n				\n				\n				\n				\n				\n				\n			\n			\n				\n				\n				\n				\n			\n				\n				\n				\n				\n				\n				\n				\n				\n				\n				\n				Inscripciones:\nTlf. 91 785 62 34\nemma@fundacionjosemariadellanos.es
URL:https://www.espaciomujermadrid.es/evento/monografico-de-empoderamiento-y-autoestima/
LOCATION:EMMA – Espacio Mujer Madrid\, C/ Martos\, 185\, Madrid\, Madrid Province\, 28850\, Spain
END:VEVENT
BEGIN:VEVENT
DTSTART;TZID=Europe/Madrid:20251006T093000
DTEND;TZID=Europe/Madrid:20251015T143000
DTSTAMP:20260421T195933
CREATED:20250925T121403Z
LAST-MODIFIED:20250925T121403Z
UID:6705-1759743000-1760538600@www.espaciomujermadrid.es
SUMMARY:Conecta digital
DESCRIPTION:Saber desenvolverse en el entorno digital hoy en día es clave para acceder al empleo\, realizar gestiones cotidianas o impulsar un proyecto personal. En el Proyecto Senderas te ofrecemos una oportunidad para que avances a tu ritmo\, con acompañamiento y en un entorno de confianza. \n¿Quieres mejorar tus habilidades digitales para acceder al empleo o impulsar tu proyecto? Conecta Digital es una formación pensada para ti: práctica\, accesible y adaptada a tus ritmos. \n			\n			\n				\n				\n				\n				\n			\n				\n				\n				\n				\n				\n				\n				\n				\n				\n				\n				Inscríbete\n			\n			\n				\n				\n				\n				\n				\n			\n				\n				\n				\n				\n				\n			\n				\n				\n				\n				\n			\n				\n				\n				\n				\n				\n				\n				Formulario de inscripción
URL:https://www.espaciomujermadrid.es/evento/conecta-digital/
LOCATION:EMMA – Espacio Mujer Madrid\, C/ Martos\, 185\, Madrid\, Madrid Province\, 28850\, Spain
ORGANIZER;CN="SENDERAS":MAILTO:senderas@fundacionjosemariadellanos.es
END:VEVENT
BEGIN:VEVENT
DTSTART;TZID=Europe/Madrid:20251008T100000
DTEND;TZID=Europe/Madrid:20251008T120000
DTSTAMP:20260421T195933
CREATED:20251001T084605Z
LAST-MODIFIED:20251001T084606Z
UID:6805-1759917600-1759924800@www.espaciomujermadrid.es
SUMMARY:Sesión informativa de la Fundación Laboral de la Construcción
DESCRIPTION:Tenemos el gusto de anunciar que el próximo 8 de octubre de 10 a 12\,  nos visitarán profesionales de la Fundación Laboral de la Construcción\, cuya sede se encuentra en Vicálvaro\, para compartir con nosotras una charla muy especial. \nEl sector de la construcción\, tradicionalmente masculinizado\, se está abriendo cada vez más a la participación de las mujeres. Se trata de un ámbito con pleno empleo\, condiciones laborales reguladas y salarios dignos\, que puede representar una gran oportunidad para nuestro desarrollo profesional. \nDurante esta sesión podremos conocer de primera mano: \n\nLas salidas laborales que ofrece el sector.\n\nLas posibilidades de formación y acompañamiento para mujeres.\n\nExperiencias que demuestran que la construcción también es un sector para nosotras.\n\nSerá un espacio inspirador y lleno de información útil para ampliar horizontes laborales. \nOs esperamos \n \n			\n			\n				\n				\n				\n				\n			\n				\n				\n				\n				\n				\n				\n				Inscripción\n			\n			\n				\n				\n				\n				\n				\n				\n				\n				\n				\n				\n			\n			\n				\n				\n				\n				\n			\n				\n				\n				\n				\n				\n				\n				\n				\n				\n				\n				Inscripciones: \nTlf. 91 785 62 34 o en emma@fundacionjosemariadellanos.es
URL:https://www.espaciomujermadrid.es/evento/sesion-informativa-de-la-fundacion-laboral-de-la-construccion/
LOCATION:EMMA – Espacio Mujer Madrid\, C/ Martos\, 185\, Madrid\, Madrid Province\, 28850\, Spain
END:VEVENT
BEGIN:VEVENT
DTSTART;TZID=Europe/Madrid:20251008T100000
DTEND;TZID=Europe/Madrid:20251009T140000
DTSTAMP:20260421T195933
CREATED:20251001T085829Z
LAST-MODIFIED:20251001T085829Z
UID:6821-1759917600-1760018400@www.espaciomujermadrid.es
SUMMARY:Curso de Primeros Auxilios
DESCRIPTION:¿Todavía no has realizado este curso tan demandado en el mundo laboral y de tanta utilidad para el día a día?  \nOs ofrecemos una formación de 6 horas en dos días en el Espacio Mujer Madrid. \nEl miércoles 8 de octubre de 10.00 a 14.00  y el jueves 9 de octubre de 10:00 a 12:00. \nVeremos aspectos como el soporte vital básico y problemas cardiovasculares\, prevención de riesgos laborales\, qué hacer ante lesiones frecuentes como quemaduras y hemorragias y cómo actuar ante situaciones de emergencia.  \nSerá un curso muy completo\, ¡No os lo podéis perder! \nInscripciones: Sólo tienes que hacernos llegar tu NOMBRE COMPLETO\, DOCUMENTO DE IDENTIDAD\, NÚMERO DE TELÉFONO y CORREO a este mismo correo o a través del teléfono 917856234. \n \n			\n			\n				\n				\n				\n				\n			\n				\n				\n				\n				\n				\n				\n				Inscripción\n			\n			\n				\n				\n				\n				\n				\n				\n				\n				\n				\n				\n			\n			\n				\n				\n				\n				\n			\n				\n				\n				\n				\n				\n				\n				\n				\n				\n				\n				Inscripciones: \nTlf. 91 785 62 34 o en emma@fundacionjosemariadellanos.es
URL:https://www.espaciomujermadrid.es/evento/curso-de-primeros-auxilios/
LOCATION:EMMA – Espacio Mujer Madrid\, C/ Martos\, 185\, Madrid\, Madrid Province\, 28850\, Spain
END:VEVENT
BEGIN:VEVENT
DTSTART;TZID=Europe/Madrid:20251008T103000
DTEND;TZID=Europe/Madrid:20251008T123000
DTSTAMP:20260421T195933
CREATED:20250930T152836Z
LAST-MODIFIED:20251001T110155Z
UID:6772-1759919400-1759926600@www.espaciomujermadrid.es
SUMMARY:Taller de Arteterapia
DESCRIPTION:TRAZOS INDOMABLES es un espacio artístico y de cuidado para crear y expresarnos con libertad\, empoderamiento y resistencia.  \n \n			\n			\n				\n				\n				\n				\n			\n				\n				\n				\n				\n				\n				\n				Inscripción\n			\n			\n				\n				\n				\n				\n				\n				\n				\n				\n				\n				\n			\n			\n				\n				\n				\n				\n			\n				\n				\n				\n				\n				\n				\n				\n				\n				\n				\n				Inscripciones: \nTlf. 91 785 62 34 o en emma@fundacionjosemariadellanos.es
URL:https://www.espaciomujermadrid.es/evento/taller-de-arteterapia/
LOCATION:EMMA – Espacio Mujer Madrid\, C/ Martos\, 185\, Madrid\, Madrid Province\, 28850\, Spain
END:VEVENT
BEGIN:VEVENT
DTSTART;TZID=Europe/Madrid:20251008T173000
DTEND;TZID=Europe/Madrid:20251008T193000
DTSTAMP:20260421T195933
CREATED:20251001T085520Z
LAST-MODIFIED:20251001T085521Z
UID:6815-1759944600-1759951800@www.espaciomujermadrid.es
SUMMARY:Pequehuerto: cultivando lazos familiares
DESCRIPTION:úntate a Pequehuerto\, Cultivando los lazos familiares\, un taller en el que menores desde los 4 hasta los 9 años podrán acudir acompañadas/os de una familiar adulta/o a disfrutar de esta actividad en nuestro huerto urbano.El taller tendrá lugar los miércoles en horario de 17:30 a 19:00 desde el 8 de octubre. \nEn este taller compartiremos: \n\nActividades prácticas de siembra y cuidado de plantas. \nJuegos y dinámicas para fomentar la colaboración y el trabajo en equipo en familia. \nMomentos para disfrutar y aprender juntos\, conectándonos con la naturaleza y entre nosotros/as. \nConsejos para llevar la experiencia del huerto a casa y mantener hábitos sostenibles. \n\nNo te pierdas esta oportunidad y apúntate a esta actividad en la que podrás aprender a relacionarte en familia con la naturaleza\, así como aprender todos los valores sobre respeto\, cuidado y paciencia que ésta nos brinda. \nUna oportunidad para sembrar no solo plantas\, sino también experiencias\, recuerdos y vínculos familiares. ¡Os esperamos! \nInscripciones: Sólo tienes que hacernos llegar tu NOMBRE COMPLETO y NÚMERO DE TELÉFONO  a este mismo correo o a través del teléfono 91 785 62 34. \n \n			\n			\n				\n				\n				\n				\n			\n				\n				\n				\n				\n				\n				\n				Inscripción\n			\n			\n				\n				\n				\n				\n				\n				\n				\n				\n				\n				\n			\n			\n				\n				\n				\n				\n			\n				\n				\n				\n				\n				\n				\n				\n				\n				\n				\n				Inscripciones: \nTlf. 91 785 62 34 o en emma@fundacionjosemariadellanos.es
URL:https://www.espaciomujermadrid.es/evento/pequehuerto-cultivando-lazos-familiares/
LOCATION:EMMA – Espacio Mujer Madrid\, C/ Martos\, 185\, Madrid\, Madrid Province\, 28850\, Spain
END:VEVENT
END:VCALENDAR