BEGIN:VCALENDAR
VERSION:2.0
PRODID:-//Espacio Mujer Madrid EMMA - ECPv6.10.3//NONSGML v1.0//EN
CALSCALE:GREGORIAN
METHOD:PUBLISH
X-WR-CALNAME:Espacio Mujer Madrid EMMA
X-ORIGINAL-URL:https://www.espaciomujermadrid.es
X-WR-CALDESC:Eventos para Espacio Mujer Madrid EMMA
REFRESH-INTERVAL;VALUE=DURATION:PT1H
X-Robots-Tag:noindex
X-PUBLISHED-TTL:PT1H
BEGIN:VTIMEZONE
TZID:Europe/Madrid
BEGIN:DAYLIGHT
TZOFFSETFROM:+0100
TZOFFSETTO:+0200
TZNAME:CEST
DTSTART:20250330T010000
END:DAYLIGHT
BEGIN:STANDARD
TZOFFSETFROM:+0200
TZOFFSETTO:+0100
TZNAME:CET
DTSTART:20251026T010000
END:STANDARD
END:VTIMEZONE
BEGIN:VEVENT
DTSTART;TZID=Europe/Madrid:20250919T100000
DTEND;TZID=Europe/Madrid:20251010T120000
DTSTAMP:20260421T232731
CREATED:20250829T094138Z
LAST-MODIFIED:20250829T094138Z
UID:6635-1758276000-1760097600@www.espaciomujermadrid.es
SUMMARY:Monográfico de Empoderamiento y Autoestima
DESCRIPTION:Desde el EMMA queremos invitaros a participar en un Monográfico de empoderamiento y autoestima\, un espacio pensado para acompañar procesos de crecimiento personal y colectivo. \nSe desarrollará a lo largo de 4 sesiones\, los viernes de 10.00 a 12.00 horas\, desde el 19 de septiembre hasta el 10 de octubre. \nA través de dinámicas prácticas y reflexivas\, trabajaremos herramientas para fortalecer la confianza\, el autocuidado y el empoderamiento\, con el objetivo de potenciar nuestras capacidades y afrontar los retos del día a día con mayor seguridad. \nSerá una oportunidad para compartir\, aprender y crecer en un entorno cercano y de apoyo mutuo. \nLas plazas son limitadas\, por lo que os animamos a inscribiros cuanto antes. \nEs imprescindible acudir con puntualidad a las actividades. \n¡Os esperamos! \n¡Anímate! \n			\n			\n				\n				\n				\n				\n			\n				\n				\n				\n				\n				\n				\n				\n				\n				\n				\n				Inscríbete\n			\n			\n				\n				\n				\n				\n				\n			\n				\n				\n				\n				\n				\n			\n				\n				\n				\n				\n			\n				\n				\n				\n				\n				\n				\n				Inscripción\n			\n			\n				\n				\n				\n				\n				\n				\n				\n				\n				\n				\n			\n			\n				\n				\n				\n				\n			\n				\n				\n				\n				\n				\n				\n				\n				\n				\n				\n				Inscripciones:\nTlf. 91 785 62 34\nemma@fundacionjosemariadellanos.es
URL:https://www.espaciomujermadrid.es/evento/monografico-de-empoderamiento-y-autoestima/
LOCATION:EMMA – Espacio Mujer Madrid\, C/ Martos\, 185\, Madrid\, Madrid Province\, 28850\, Spain
END:VEVENT
BEGIN:VEVENT
DTSTART;TZID=Europe/Madrid:20251006T093000
DTEND;TZID=Europe/Madrid:20251015T143000
DTSTAMP:20260421T232731
CREATED:20250925T121403Z
LAST-MODIFIED:20250925T121403Z
UID:6705-1759743000-1760538600@www.espaciomujermadrid.es
SUMMARY:Conecta digital
DESCRIPTION:Saber desenvolverse en el entorno digital hoy en día es clave para acceder al empleo\, realizar gestiones cotidianas o impulsar un proyecto personal. En el Proyecto Senderas te ofrecemos una oportunidad para que avances a tu ritmo\, con acompañamiento y en un entorno de confianza. \n¿Quieres mejorar tus habilidades digitales para acceder al empleo o impulsar tu proyecto? Conecta Digital es una formación pensada para ti: práctica\, accesible y adaptada a tus ritmos. \n			\n			\n				\n				\n				\n				\n			\n				\n				\n				\n				\n				\n				\n				\n				\n				\n				\n				Inscríbete\n			\n			\n				\n				\n				\n				\n				\n			\n				\n				\n				\n				\n				\n			\n				\n				\n				\n				\n			\n				\n				\n				\n				\n				\n				\n				Formulario de inscripción
URL:https://www.espaciomujermadrid.es/evento/conecta-digital/
LOCATION:EMMA – Espacio Mujer Madrid\, C/ Martos\, 185\, Madrid\, Madrid Province\, 28850\, Spain
ORGANIZER;CN="SENDERAS":MAILTO:senderas@fundacionjosemariadellanos.es
END:VEVENT
END:VCALENDAR