BEGIN:VCALENDAR
VERSION:2.0
PRODID:-//Espacio Mujer Madrid EMMA - ECPv6.10.3//NONSGML v1.0//EN
CALSCALE:GREGORIAN
METHOD:PUBLISH
X-WR-CALNAME:Espacio Mujer Madrid EMMA
X-ORIGINAL-URL:https://www.espaciomujermadrid.es
X-WR-CALDESC:Eventos para Espacio Mujer Madrid EMMA
REFRESH-INTERVAL;VALUE=DURATION:PT1H
X-Robots-Tag:noindex
X-PUBLISHED-TTL:PT1H
BEGIN:VTIMEZONE
TZID:Europe/Madrid
BEGIN:DAYLIGHT
TZOFFSETFROM:+0100
TZOFFSETTO:+0200
TZNAME:CEST
DTSTART:20250330T010000
END:DAYLIGHT
BEGIN:STANDARD
TZOFFSETFROM:+0200
TZOFFSETTO:+0100
TZNAME:CET
DTSTART:20251026T010000
END:STANDARD
END:VTIMEZONE
BEGIN:VEVENT
DTSTART;TZID=Europe/Madrid:20251020T100000
DTEND;TZID=Europe/Madrid:20251020T120000
DTSTAMP:20260423T225951
CREATED:20251008T212457Z
LAST-MODIFIED:20251008T212457Z
UID:6838-1760954400-1760961600@www.espaciomujermadrid.es
SUMMARY:Emprendimiento y mini negocios
DESCRIPTION:Te invitamos el lunes 20 de octubre de 10 a 12 a participar en nuestro próximo monográfico de salud financiera y autoempleo\, un espacio de dos horas pensado para mujeres interesadas en explorar el camino del emprendimiento y los mininegocios. \nEl objetivo es ofrecer herramientas prácticas para: \n\nComprender la importancia de la salud financiera personal.\nConocer los pasos básicos para iniciar un proyecto propio. \nDescubrir ideas de autoempleo y mininegocios sostenibles. \nFortalecer la confianza y la capacidad de tomar decisiones económicas. \n\nSerá un taller dinámico y cercano\, que busca acompañar a las mujeres en el diseño de su propio camino hacia la independencia económica. \nPara consultarnos cualquier duda o para realizar inscripciones\, contáctanos en este mismo correo electrónico o llámanos por teléfono al 917856234 facilitándonos tu NOMBRE COMPLETO\, DOCUMENTO DE IDENTIDAD y NÚMERO DE TELÉFONO.  \n \n			\n			\n				\n				\n				\n				\n			\n				\n				\n				\n				\n				\n				\n				Inscripción\n			\n			\n				\n				\n				\n				\n				\n				\n				\n				\n				\n				\n			\n			\n				\n				\n				\n				\n			\n				\n				\n				\n				\n				\n				\n				\n				\n				\n				\n				Inscripciones: \nTlf. 91 785 62 34 o en emma@fundacionjosemariadellanos.es
URL:https://www.espaciomujermadrid.es/evento/emprendimiento-y-mini-negocios/
LOCATION:EMMA – Espacio Mujer Madrid\, C/ Martos\, 185\, Madrid\, Madrid Province\, 28850\, Spain
END:VEVENT
END:VCALENDAR