BEGIN:VCALENDAR
VERSION:2.0
PRODID:-//Espacio Mujer Madrid EMMA - ECPv6.10.3//NONSGML v1.0//EN
CALSCALE:GREGORIAN
METHOD:PUBLISH
X-ORIGINAL-URL:https://www.espaciomujermadrid.es
X-WR-CALDESC:Eventos para Espacio Mujer Madrid EMMA
REFRESH-INTERVAL;VALUE=DURATION:PT1H
X-Robots-Tag:noindex
X-PUBLISHED-TTL:PT1H
BEGIN:VTIMEZONE
TZID:Europe/Madrid
BEGIN:DAYLIGHT
TZOFFSETFROM:+0100
TZOFFSETTO:+0200
TZNAME:CEST
DTSTART:20250330T010000
END:DAYLIGHT
BEGIN:STANDARD
TZOFFSETFROM:+0200
TZOFFSETTO:+0100
TZNAME:CET
DTSTART:20251026T010000
END:STANDARD
END:VTIMEZONE
BEGIN:VEVENT
DTSTART;TZID=Europe/Madrid:20251028T173000
DTEND;TZID=Europe/Madrid:20251106T193000
DTSTAMP:20260425T134905
CREATED:20251008T214036Z
LAST-MODIFIED:20251008T214036Z
UID:6858-1761672600-1762457400@www.espaciomujermadrid.es
SUMMARY:Navega segura en internet y en redes sociales
DESCRIPTION:A partir del próximo 28 de octubre y hasta el 6 de noviembre\, tendrá lugar un curso martes y jueves de 17.30 a 19.30 que se llama “Navega con seguridad en internet y redes sociales”\, un espacio de empoderamiento digital pensado especialmente para mujeres que desean usar la tecnología con confianza y protegerse en el entorno online. Lo impartirá la Fundación Orange y  \nDurante la sesión abordaremos: \n\nCómo identificar y evitar riesgos en internet.\nRecomendaciones para un uso seguro de redes sociales.\nHerramientas y recursos para proteger tu privacidad y datos personales.\nBuenas prácticas para un uso saludable y consciente de la tecnología.\n\nSerá un taller práctico y cercano\, que busca fortalecer la autonomía digital y brindarte claves para navegar de manera segura. \n Es imprescindible acudir con puntualidad a las actividades. \n¡No te lo puedes perder! ¡Te esperamos! \n \n			\n			\n				\n				\n				\n				\n			\n				\n				\n				\n				\n				\n				\n				Inscripción\n			\n			\n				\n				\n				\n				\n				\n				\n				\n				\n				\n				\n			\n			\n				\n				\n				\n				\n			\n				\n				\n				\n				\n				\n				\n				\n				\n				\n				\n				Inscripciones: \nTlf. 91 785 62 34 o en emma@fundacionjosemariadellanos.es
URL:https://www.espaciomujermadrid.es/evento/navega-segura-en-internet-y-en-redes-sociales/
LOCATION:EMMA – Espacio Mujer Madrid\, C/ Martos\, 185\, Madrid\, Madrid Province\, 28850\, Spain
END:VEVENT
BEGIN:VEVENT
DTSTART;TZID=Europe/Madrid:20251030T100000
DTEND;TZID=Europe/Madrid:20251030T120000
DTSTAMP:20260425T134906
CREATED:20251008T214426Z
LAST-MODIFIED:20251008T214630Z
UID:6863-1761818400-1761825600@www.espaciomujermadrid.es
SUMMARY:Taller de apoyo para madres de adolescentes
DESCRIPTION:Ser madre de una persona adolescente no siempre es fácil. Surgen dudas\, retos y momentos de cambio que pueden resultar desafiantes. Por eso hemos creado el taller “Apoyo para madres de adolescentes” el próximo Jueves 30 de Octubre\, de 10.00 a 12.00. Será un espacio de acompañamiento y aprendizaje compartido. \nEn este encuentro trabajaremos sobre: \n\nEstrategias para mejorar la comunicación en la familia.\nComprender los cambios propios de la adolescencia.\nHerramientas para manejar conflictos de manera positiva.\nEspacios de autocuidado y fortalecimiento personal para las madres.\n\nSerá un taller práctico\, cercano y pensado para compartir experiencias entre mujeres que atraviesan situaciones similares. \n¡Te esperamos! \n Es imprescindible acudir con puntualidad a las actividades. \nPara consultarnos cualquier duda o para realizar inscripciones\, contáctanos en este mismo correo electrónico o llámanos por teléfono al 917856234 facilitándonos tu NOMBRE COMPLETO\, DOCUMENTO DE IDENTIDAD y NÚMERO DE TELÉFONO. \n \n			\n			\n				\n				\n				\n				\n			\n				\n				\n				\n				\n				\n				\n				Inscripción\n			\n			\n				\n				\n				\n				\n				\n				\n				\n				\n				\n				\n			\n			\n				\n				\n				\n				\n			\n				\n				\n				\n				\n				\n				\n				\n				\n				\n				\n				Inscripciones: \nTlf. 91 785 62 34 o en emma@fundacionjosemariadellanos.es
URL:https://www.espaciomujermadrid.es/evento/taller-de-apoyo-para-madres-de-adolescentes/
LOCATION:EMMA – Espacio Mujer Madrid\, C/ Martos\, 185\, Madrid\, Madrid Province\, 28850\, Spain
END:VEVENT
END:VCALENDAR