BEGIN:VCALENDAR
VERSION:2.0
PRODID:-//Espacio Mujer Madrid EMMA - ECPv6.10.3//NONSGML v1.0//EN
CALSCALE:GREGORIAN
METHOD:PUBLISH
X-ORIGINAL-URL:https://www.espaciomujermadrid.es
X-WR-CALDESC:Eventos para Espacio Mujer Madrid EMMA
REFRESH-INTERVAL;VALUE=DURATION:PT1H
X-Robots-Tag:noindex
X-PUBLISHED-TTL:PT1H
BEGIN:VTIMEZONE
TZID:Europe/Madrid
BEGIN:DAYLIGHT
TZOFFSETFROM:+0100
TZOFFSETTO:+0200
TZNAME:CEST
DTSTART:20250330T010000
END:DAYLIGHT
BEGIN:STANDARD
TZOFFSETFROM:+0200
TZOFFSETTO:+0100
TZNAME:CET
DTSTART:20251026T010000
END:STANDARD
END:VTIMEZONE
BEGIN:VEVENT
DTSTART;TZID=Europe/Madrid:20251028T173000
DTEND;TZID=Europe/Madrid:20251106T193000
DTSTAMP:20260425T151535
CREATED:20251008T214036Z
LAST-MODIFIED:20251008T214036Z
UID:6858-1761672600-1762457400@www.espaciomujermadrid.es
SUMMARY:Navega segura en internet y en redes sociales
DESCRIPTION:A partir del próximo 28 de octubre y hasta el 6 de noviembre\, tendrá lugar un curso martes y jueves de 17.30 a 19.30 que se llama “Navega con seguridad en internet y redes sociales”\, un espacio de empoderamiento digital pensado especialmente para mujeres que desean usar la tecnología con confianza y protegerse en el entorno online. Lo impartirá la Fundación Orange y  \nDurante la sesión abordaremos: \n\nCómo identificar y evitar riesgos en internet.\nRecomendaciones para un uso seguro de redes sociales.\nHerramientas y recursos para proteger tu privacidad y datos personales.\nBuenas prácticas para un uso saludable y consciente de la tecnología.\n\nSerá un taller práctico y cercano\, que busca fortalecer la autonomía digital y brindarte claves para navegar de manera segura. \n Es imprescindible acudir con puntualidad a las actividades. \n¡No te lo puedes perder! ¡Te esperamos! \n \n			\n			\n				\n				\n				\n				\n			\n				\n				\n				\n				\n				\n				\n				Inscripción\n			\n			\n				\n				\n				\n				\n				\n				\n				\n				\n				\n				\n			\n			\n				\n				\n				\n				\n			\n				\n				\n				\n				\n				\n				\n				\n				\n				\n				\n				Inscripciones: \nTlf. 91 785 62 34 o en emma@fundacionjosemariadellanos.es
URL:https://www.espaciomujermadrid.es/evento/navega-segura-en-internet-y-en-redes-sociales/
LOCATION:EMMA – Espacio Mujer Madrid\, C/ Martos\, 185\, Madrid\, Madrid Province\, 28850\, Spain
END:VEVENT
BEGIN:VEVENT
DTSTART;TZID=Europe/Madrid:20251104T100000
DTEND;TZID=Europe/Madrid:20251104T120000
DTSTAMP:20260425T151535
CREATED:20251030T215420Z
LAST-MODIFIED:20251030T215445Z
UID:7042-1762250400-1762257600@www.espaciomujermadrid.es
SUMMARY:Sesión de acogida para la Búsqueda de Empleo
DESCRIPTION:Ven a conocer todo lo que ofrece el Espacio Mujer Madrid (EMMA) \n¿Estás buscando trabajo y no sabes por dónde empezar?  \n¿Conoces el EMMA pero tienes dudas sobre lo qué puede ofrecerte? ¿Buscas un espacio en el que poder dedicarte a ti misma?  \nInscríbete en nuestra SESIÓN DE ACOGIDA del martes 4 de Noviembre de 10:00 a 12:00 y te contaremos todos los servicios y talleres que ofrece el EMMA\, tanto del área de empoderamiento y participación social\, como en el área de empleabilidad.  \nEs imprescindible acudir con puntualidad a las actividades. \n¡Ven y conoce todas las actividades y recursos que tenemos! \n			\n			\n				\n				\n				\n				\n			\n				\n				\n				\n				\n				\n				\n				\n				\n				\n				\n				Inscríbete\n			\n			\n				\n				\n				\n				\n				\n			\n				\n				\n				\n				\n				\n			\n				\n				\n				\n				\n			\n				\n				\n				\n				\n				\n				\n				Inscripción\n			\n			\n				\n				\n				\n				\n				\n				\n				\n				\n				\n				\n			\n			\n				\n				\n				\n				\n			\n				\n				\n				\n				\n				\n				\n				\n				\n				\n				\n				Inscripciones:\nTlf. 91 785 62 34\nemma@fundacionjosemariadellanos.es
URL:https://www.espaciomujermadrid.es/evento/sesion-de-acogida-2/
LOCATION:EMMA – Espacio Mujer Madrid\, C/ Martos\, 185\, Madrid\, Madrid Province\, 28850\, Spain
END:VEVENT
BEGIN:VEVENT
DTSTART;TZID=Europe/Madrid:20251104T180000
DTEND;TZID=Europe/Madrid:20251104T200000
DTSTAMP:20260425T151535
CREATED:20251030T184755Z
LAST-MODIFIED:20251030T184755Z
UID:6979-1762279200-1762286400@www.espaciomujermadrid.es
SUMMARY:Ciclo cine: 25N
DESCRIPTION:Ciclo audiovisual en clave de reflexión por el 25 N \n \n			\n			\n				\n				\n				\n				\n			\n				\n				\n				\n				\n				\n				\n				Inscripción\n			\n			\n				\n				\n				\n				\n				\n				\n				\n				\n				\n				\n			\n			\n				\n				\n				\n				\n			\n				\n				\n				\n				\n				\n				\n				\n				\n				\n				\n				Inscripciones: \nTlf. 91 785 62 34 o en emma@fundacionjosemariadellanos.es
URL:https://www.espaciomujermadrid.es/evento/ciclo-cine-25n/
LOCATION:EMMA – Espacio Mujer Madrid\, C/ Martos\, 185\, Madrid\, Madrid Province\, 28850\, Spain
END:VEVENT
END:VCALENDAR