BEGIN:VCALENDAR
VERSION:2.0
PRODID:-//Espacio Mujer Madrid EMMA - ECPv6.10.3//NONSGML v1.0//EN
CALSCALE:GREGORIAN
METHOD:PUBLISH
X-WR-CALNAME:Espacio Mujer Madrid EMMA
X-ORIGINAL-URL:https://www.espaciomujermadrid.es
X-WR-CALDESC:Eventos para Espacio Mujer Madrid EMMA
REFRESH-INTERVAL;VALUE=DURATION:PT1H
X-Robots-Tag:noindex
X-PUBLISHED-TTL:PT1H
BEGIN:VTIMEZONE
TZID:Europe/Madrid
BEGIN:DAYLIGHT
TZOFFSETFROM:+0100
TZOFFSETTO:+0200
TZNAME:CEST
DTSTART:20250330T010000
END:DAYLIGHT
BEGIN:STANDARD
TZOFFSETFROM:+0200
TZOFFSETTO:+0100
TZNAME:CET
DTSTART:20251026T010000
END:STANDARD
END:VTIMEZONE
BEGIN:VEVENT
DTSTART;TZID=Europe/Madrid:20251028T173000
DTEND;TZID=Europe/Madrid:20251106T193000
DTSTAMP:20260425T151146
CREATED:20251008T214036Z
LAST-MODIFIED:20251008T214036Z
UID:6858-1761672600-1762457400@www.espaciomujermadrid.es
SUMMARY:Navega segura en internet y en redes sociales
DESCRIPTION:A partir del próximo 28 de octubre y hasta el 6 de noviembre\, tendrá lugar un curso martes y jueves de 17.30 a 19.30 que se llama “Navega con seguridad en internet y redes sociales”\, un espacio de empoderamiento digital pensado especialmente para mujeres que desean usar la tecnología con confianza y protegerse en el entorno online. Lo impartirá la Fundación Orange y  \nDurante la sesión abordaremos: \n\nCómo identificar y evitar riesgos en internet.\nRecomendaciones para un uso seguro de redes sociales.\nHerramientas y recursos para proteger tu privacidad y datos personales.\nBuenas prácticas para un uso saludable y consciente de la tecnología.\n\nSerá un taller práctico y cercano\, que busca fortalecer la autonomía digital y brindarte claves para navegar de manera segura. \n Es imprescindible acudir con puntualidad a las actividades. \n¡No te lo puedes perder! ¡Te esperamos! \n \n			\n			\n				\n				\n				\n				\n			\n				\n				\n				\n				\n				\n				\n				Inscripción\n			\n			\n				\n				\n				\n				\n				\n				\n				\n				\n				\n				\n			\n			\n				\n				\n				\n				\n			\n				\n				\n				\n				\n				\n				\n				\n				\n				\n				\n				Inscripciones: \nTlf. 91 785 62 34 o en emma@fundacionjosemariadellanos.es
URL:https://www.espaciomujermadrid.es/evento/navega-segura-en-internet-y-en-redes-sociales/
LOCATION:EMMA – Espacio Mujer Madrid\, C/ Martos\, 185\, Madrid\, Madrid Province\, 28850\, Spain
END:VEVENT
BEGIN:VEVENT
DTSTART;TZID=Europe/Madrid:20251105T100000
DTEND;TZID=Europe/Madrid:20251105T120000
DTSTAMP:20260425T151146
CREATED:20251030T215654Z
LAST-MODIFIED:20251030T215655Z
UID:7049-1762336800-1762344000@www.espaciomujermadrid.es
SUMMARY:Eficiencia energética y reducción de la huella de carbono
DESCRIPTION:Os queremos invitar el día 5 de Noviembre\, de 10 a 12 a esta actividad que conjuga por una parte los consejos para poder tomar medidas para mejorar el cuidado del medio ambiente con el ahorro doméstico y la salud financiera de las casas.  \nContaremos con personal voluntario de Repsol que compartirá con nosotras sus conocimientos en esta materia y con un espacio de intercambio y debate sobre el tema. \nLas plazas son limitadas\, por lo que recomendamos realizar la inscripción lo antes posible. \nEs imprescindible acudir con puntualidad a las actividades. \n¡Os esperamos! \n			\n			\n				\n				\n				\n				\n			\n				\n				\n				\n				\n				\n				\n				\n				\n				\n				\n				Inscríbete\n			\n			\n				\n				\n				\n				\n				\n			\n				\n				\n				\n				\n				\n			\n				\n				\n				\n				\n			\n				\n				\n				\n				\n				\n				\n				Inscripción\n			\n			\n				\n				\n				\n				\n				\n				\n				\n				\n				\n				\n			\n			\n				\n				\n				\n				\n			\n				\n				\n				\n				\n				\n				\n				\n				\n				\n				\n				Inscripciones:\nTlf. 91 785 62 34\nemma@fundacionjosemariadellanos.es
URL:https://www.espaciomujermadrid.es/evento/eficiencia-energetica-y-reduccion-de-la-huella-de-carbono/
LOCATION:EMMA – Espacio Mujer Madrid\, C/ Martos\, 185\, Madrid\, Madrid Province\, 28850\, Spain
END:VEVENT
BEGIN:VEVENT
DTSTART;TZID=Europe/Madrid:20251105T103000
DTEND;TZID=Europe/Madrid:20251105T123000
DTSTAMP:20260425T151147
CREATED:20251021T140351Z
LAST-MODIFIED:20251021T140351Z
UID:6902-1762338600-1762345800@www.espaciomujermadrid.es
SUMMARY:Taller de Sensibilización Medioambiental
DESCRIPTION:Este taller está destinado prioritariamente a menores de 30 años y busca concienciar sobre la importancia de cuidar nuestro entorno a través de pequeñas acciones cotidianas que marcan la diferencia. \nA lo largo de la sesión reflexionaremos sobre cómo nuestras rutinas impactan en el planeta y aprenderemos a adoptar hábitos sostenibles que mejoran tanto nuestra calidad de vida como la del medio ambiente. \nAdemás\, contaremos con el itinerario formativo laboral de HUB Empleo Verde\, una oportunidad para conocer de cerca el creciente sector de los empleos verdes\, vinculados a la sostenibilidad y a la economía circular. \n			\n			\n				\n				\n				\n				\n			\n				\n				\n				\n				\n				\n				\n				\n				\n				\n				\n				Inscríbete\n			\n			\n				\n				\n				\n				\n				\n			\n				\n				\n				\n				\n				\n			\n				\n				\n				\n				\n			\n				\n				\n				\n				\n				\n				\n				Formulario de inscripción
URL:https://www.espaciomujermadrid.es/evento/taller-de-sensibilizacion-medioambiental-2/
LOCATION:EMMA – Espacio Mujer Madrid\, C/ Martos\, 185\, Madrid\, Madrid Province\, 28850\, Spain
ORGANIZER;CN="SENDERAS":MAILTO:senderas@fundacionjosemariadellanos.es
END:VEVENT
END:VCALENDAR