BEGIN:VCALENDAR
VERSION:2.0
PRODID:-//Espacio Mujer Madrid EMMA - ECPv6.10.3//NONSGML v1.0//EN
CALSCALE:GREGORIAN
METHOD:PUBLISH
X-ORIGINAL-URL:https://www.espaciomujermadrid.es
X-WR-CALDESC:Eventos para Espacio Mujer Madrid EMMA
REFRESH-INTERVAL;VALUE=DURATION:PT1H
X-Robots-Tag:noindex
X-PUBLISHED-TTL:PT1H
BEGIN:VTIMEZONE
TZID:Europe/Madrid
BEGIN:DAYLIGHT
TZOFFSETFROM:+0100
TZOFFSETTO:+0200
TZNAME:CEST
DTSTART:20250330T010000
END:DAYLIGHT
BEGIN:STANDARD
TZOFFSETFROM:+0200
TZOFFSETTO:+0100
TZNAME:CET
DTSTART:20251026T010000
END:STANDARD
END:VTIMEZONE
BEGIN:VEVENT
DTSTART;TZID=Europe/Madrid:20251111T103000
DTEND;TZID=Europe/Madrid:20251111T123000
DTSTAMP:20260425T151813
CREATED:20251030T182530Z
LAST-MODIFIED:20251030T182715Z
UID:6966-1762857000-1762864200@www.espaciomujermadrid.es
SUMMARY:Preparación de entrevistas de trabajo con Realidad Virtual
DESCRIPTION:Pon en práctica tus habilidades en un entorno virtual simulado y prepárate para tus próximas entrevistas de trabajo con mayor confianza. Durante el taller entrenaremos competencias clave como la comunicación no verbal\, la escucha activa y la gestión emocional. Aprender a relacionarse mejor no es solo una habilidad social: es una herramienta esencial para abrirte paso en el mundo profesional. \nTrabajaremos la capacidad de relación desde una mirada práctica\, cercana y vivencial. Una experiencia transformadora para mejorar tu expresión\, entrenar tu seguridad y dar el siguiente paso hacia el empleo. \n			\n			\n				\n				\n				\n				\n			\n				\n				\n				\n				\n				\n				\n				Inscripción
URL:https://www.espaciomujermadrid.es/evento/preparacion-de-entrevistas-de-trabajo-con-realidad-virtual-2/
LOCATION:EMMA – Espacio Mujer Madrid\, C/ Martos\, 185\, Madrid\, Madrid Province\, 28850\, Spain
ORGANIZER;CN="SENDERAS":MAILTO:senderas@fundacionjosemariadellanos.es
END:VEVENT
BEGIN:VEVENT
DTSTART;TZID=Europe/Madrid:20251111T180000
DTEND;TZID=Europe/Madrid:20251111T200000
DTSTAMP:20260425T151813
CREATED:20251030T212834Z
LAST-MODIFIED:20251030T212917Z
UID:6984-1762884000-1762891200@www.espaciomujermadrid.es
SUMMARY:Ciclo cine: 25N
DESCRIPTION:Ciclo audiovisual en clave de reflexión por el 25 N \n \n			\n			\n				\n				\n				\n				\n			\n				\n				\n				\n				\n				\n				\n				Inscripción\n			\n			\n				\n				\n				\n				\n				\n				\n				\n				\n				\n				\n			\n			\n				\n				\n				\n				\n			\n				\n				\n				\n				\n				\n				\n				\n				\n				\n				\n				Inscripciones: \nTlf. 91 785 62 34 o en emma@fundacionjosemariadellanos.es
URL:https://www.espaciomujermadrid.es/evento/ciclo-cine-25n-2/
LOCATION:EMMA – Espacio Mujer Madrid\, C/ Martos\, 185\, Madrid\, Madrid Province\, 28850\, Spain
END:VEVENT
END:VCALENDAR