BEGIN:VCALENDAR
VERSION:2.0
PRODID:-//Espacio Mujer Madrid EMMA - ECPv6.10.3//NONSGML v1.0//EN
CALSCALE:GREGORIAN
METHOD:PUBLISH
X-ORIGINAL-URL:https://www.espaciomujermadrid.es
X-WR-CALDESC:Eventos para Espacio Mujer Madrid EMMA
REFRESH-INTERVAL;VALUE=DURATION:PT1H
X-Robots-Tag:noindex
X-PUBLISHED-TTL:PT1H
BEGIN:VTIMEZONE
TZID:Europe/Madrid
BEGIN:DAYLIGHT
TZOFFSETFROM:+0100
TZOFFSETTO:+0200
TZNAME:CEST
DTSTART:20250330T010000
END:DAYLIGHT
BEGIN:STANDARD
TZOFFSETFROM:+0200
TZOFFSETTO:+0100
TZNAME:CET
DTSTART:20251026T010000
END:STANDARD
END:VTIMEZONE
BEGIN:VEVENT
DTSTART;TZID=Europe/Madrid:20251118T170000
DTEND;TZID=Europe/Madrid:20251118T200000
DTSTAMP:20260425T151813
CREATED:20251114T092711Z
LAST-MODIFIED:20251114T092711Z
UID:7088-1763485200-1763496000@www.espaciomujermadrid.es
SUMMARY:Carnet de manipulación de alimentos
DESCRIPTION:El próximo Martes 18 de Noviembre os presentamos una nueva edición del Carnet de Manipulación de alimentos. Si todavía no lo tienes\, ésta es una gran oportunidad para inscribirte en este curso tan demandado desde el mundo laboral. ¡Date prisa y no te quedes sin tu plaza! \nTendrá lugar el martes 18 de Noviembre de 17:00 a 20:00 horas. Hay opción a solicitar ludoteca. \nNo hay que cumplir ningún requisito para participar en el curso\, pero es necesario facilitarnos el número de documento de identidad que se tiene\, señalando que tipo de documentación es:-DNI– Pasaporte– NIE \nPara consultarnos cualquier duda o para realizar inscripciones\, sólo tienes que contestar a este mismo correo electrónico o llamarnos por teléfono al 917856234\, facilitándonos los datos ya mencionados y vuestro NOMBRE COMPLETO\, NÚMERO DE TELÉFONO. \nEs imprescindible acudir con puntualidad a las actividades.¡No te lo puedes perder! ¡Te esperamos! \n			\n			\n				\n				\n				\n				\n			\n				\n				\n				\n				\n				\n				\n				\n				\n				\n				\n				Inscríbete\n			\n			\n				\n				\n				\n				\n				\n			\n				\n				\n				\n				\n				\n			\n				\n				\n				\n				\n			\n				\n				\n				\n				\n				\n				\n				Inscripción\n			\n			\n				\n				\n				\n				\n				\n				\n				\n				\n				\n				\n			\n			\n				\n				\n				\n				\n			\n				\n				\n				\n				\n				\n				\n				\n				\n				\n				\n				Inscripciones:\nTlf. 91 785 62 34\nemma@fundacionjosemariadellanos.es
URL:https://www.espaciomujermadrid.es/evento/carnet-de-manipulacion-de-alimentos-3/
LOCATION:EMMA – Espacio Mujer Madrid\, C/ Martos\, 185\, Madrid\, Madrid Province\, 28850\, Spain
END:VEVENT
BEGIN:VEVENT
DTSTART;TZID=Europe/Madrid:20251118T180000
DTEND;TZID=Europe/Madrid:20251118T200000
DTSTAMP:20260425T151813
CREATED:20251030T213041Z
LAST-MODIFIED:20251030T213042Z
UID:6988-1763488800-1763496000@www.espaciomujermadrid.es
SUMMARY:Ciclo cine: 25N
DESCRIPTION:Ciclo audiovisual en clave de reflexión por el 25 N \n \n			\n			\n				\n				\n				\n				\n			\n				\n				\n				\n				\n				\n				\n				Inscripción\n			\n			\n				\n				\n				\n				\n				\n				\n				\n				\n				\n				\n			\n			\n				\n				\n				\n				\n			\n				\n				\n				\n				\n				\n				\n				\n				\n				\n				\n				Inscripciones: \nTlf. 91 785 62 34 o en emma@fundacionjosemariadellanos.es
URL:https://www.espaciomujermadrid.es/evento/ciclo-cine-25n-3/
LOCATION:EMMA – Espacio Mujer Madrid\, C/ Martos\, 185\, Madrid\, Madrid Province\, 28850\, Spain
END:VEVENT
END:VCALENDAR