BEGIN:VCALENDAR
VERSION:2.0
PRODID:-//Espacio Mujer Madrid EMMA - ECPv6.10.3//NONSGML v1.0//EN
CALSCALE:GREGORIAN
METHOD:PUBLISH
X-ORIGINAL-URL:https://www.espaciomujermadrid.es
X-WR-CALDESC:Eventos para Espacio Mujer Madrid EMMA
REFRESH-INTERVAL;VALUE=DURATION:PT1H
X-Robots-Tag:noindex
X-PUBLISHED-TTL:PT1H
BEGIN:VTIMEZONE
TZID:Europe/Madrid
BEGIN:DAYLIGHT
TZOFFSETFROM:+0100
TZOFFSETTO:+0200
TZNAME:CEST
DTSTART:20250330T010000
END:DAYLIGHT
BEGIN:STANDARD
TZOFFSETFROM:+0200
TZOFFSETTO:+0100
TZNAME:CET
DTSTART:20251026T010000
END:STANDARD
END:VTIMEZONE
BEGIN:VEVENT
DTSTART;TZID=Europe/Madrid:20251124T093000
DTEND;TZID=Europe/Madrid:20251128T143000
DTSTAMP:20260425T151814
CREATED:20251030T184123Z
LAST-MODIFIED:20251030T184159Z
UID:6972-1763976600-1764340200@www.espaciomujermadrid.es
SUMMARY:Curso de Limpieza y desinfección
DESCRIPTION:¿Quieres dar un paso hacia un empleo estable en un sector con alta demanda? Este curso de Limpieza y Desinfección te capacita para aplicar técnicas modernas de higiene y garantizar entornos seguros en distintos ámbitos laborales. \nDurante la formación aprenderás a:🔹 Manejar productos y herramientas de desinfección de forma segura.🔹 Aplicar protocolos de higiene en hostelería\, colectividades\, industria alimentaria\, sanitaria o farmacéutica.🔹 Cumplir con las normativas actuales y prevenir riesgos para la salud pública. \n📅 Fechas del curso: del 24 al 28 de noviembre de 2025\, de 9:30 a 14:30. \n\nCurso práctico y actualizado\nOrientado a la empleabilidad\nCertificación al finalizar\n\nActividades complementarias para reforzar tu desarrollo personal y profesional: \n\n24 y 25 de noviembre · Planificación y gestión del tiempo (haremos el Bingo de la carga mental)\n26 de noviembre · Logros y avances\n27 y 28 de noviembre · Compromiso: comprometidas con nuestras aficiones análizaremos cine con perspectiva de género\n\nUna oportunidad para iniciarte o reforzar tu perfil profesional en un área imprescindible para el bienestar colectivo. \nFórmate\, especialízate y conviértete en la persona que garantiza espacios más saludables para todas y todos. \n  \n			\n			\n				\n				\n				\n				\n			\n				\n				\n				\n				\n				\n				\n				\n				\n				\n				\n				Inscríbete\n			\n			\n				\n				\n				\n				\n				\n			\n				\n				\n				\n				\n				\n			\n				\n				\n				\n				\n			\n				\n				\n				\n				\n				\n				\n				Formulario de inscripción
URL:https://www.espaciomujermadrid.es/evento/curso-de-limpieza-y-desinfeccion-3/
LOCATION:EMMA – Espacio Mujer Madrid\, C/ Martos\, 185\, Madrid\, Madrid Province\, 28850\, Spain
ORGANIZER;CN="SENDERAS":MAILTO:senderas@fundacionjosemariadellanos.es
END:VEVENT
BEGIN:VEVENT
DTSTART;TZID=Europe/Madrid:20251125T173000
DTEND;TZID=Europe/Madrid:20251204T193000
DTSTAMP:20260425T151814
CREATED:20251114T093319Z
LAST-MODIFIED:20251114T093319Z
UID:7101-1764091800-1764876600@www.espaciomujermadrid.es
SUMMARY:Chatea con las Inteligencias Artificiales
DESCRIPTION:Os presentamos este nuevo taller destinado a mejorar vuestro conocimiento sobre la Inteligencia artificial y su uso seguro y práctico como una herramienta más para el día a día. \nSerán un total de 4 sesiones impartidas por de Aula Digital\, de la Comunidad de Madrid\, quetendrán lugar los martes y jueves del 25 de septiembre al 4 de diciembre de 17.30 a 19.30 horas. \nAbandona la sensación de quedarte atrás con el mundo digital y aprende trucos que te ayuden asacarle el máximo partido. ¡Os esperamos! \nEs imprescindible acudir con puntualidad a las actividades. \nPara consultarnos cualquier duda o para realizar inscripciones\, contáctanos en este mismo correoelectrónico o llámanos por teléfono al 917856234 facilitándonos tu NOMBRE COMPLETO\,DOCUMENTO DE IDENTIDAD y NÚMERO DE TELÉFONO. \n			\n			\n				\n				\n				\n				\n			\n				\n				\n				\n				\n				\n				\n				\n				\n				\n				\n				Inscríbete\n			\n			\n				\n				\n				\n				\n				\n			\n				\n				\n				\n				\n				\n			\n				\n				\n				\n				\n			\n				\n				\n				\n				\n				\n				\n				Inscripción\n			\n			\n				\n				\n				\n				\n				\n				\n				\n				\n				\n				\n			\n			\n				\n				\n				\n				\n			\n				\n				\n				\n				\n				\n				\n				\n				\n				\n				\n				Inscripciones:\nTlf. 91 785 62 34\nemma@fundacionjosemariadellanos.es
URL:https://www.espaciomujermadrid.es/evento/chatea-con-las-inteligencias-artificiales/
LOCATION:EMMA – Espacio Mujer Madrid\, C/ Martos\, 185\, Madrid\, Madrid Province\, 28850\, Spain
END:VEVENT
BEGIN:VEVENT
DTSTART;TZID=Europe/Madrid:20251125T180000
DTEND;TZID=Europe/Madrid:20251125T200000
DTSTAMP:20260425T151814
CREATED:20251030T213214Z
LAST-MODIFIED:20251030T213214Z
UID:6992-1764093600-1764100800@www.espaciomujermadrid.es
SUMMARY:Ciclo cine: 25N
DESCRIPTION:Ciclo audiovisual en clave de reflexión por el 25 N \n \n			\n			\n				\n				\n				\n				\n			\n				\n				\n				\n				\n				\n				\n				Inscripción\n			\n			\n				\n				\n				\n				\n				\n				\n				\n				\n				\n				\n			\n			\n				\n				\n				\n				\n			\n				\n				\n				\n				\n				\n				\n				\n				\n				\n				\n				Inscripciones: \nTlf. 91 785 62 34 o en emma@fundacionjosemariadellanos.es
URL:https://www.espaciomujermadrid.es/evento/ciclo-cine-25n-4/
LOCATION:EMMA – Espacio Mujer Madrid\, C/ Martos\, 185\, Madrid\, Madrid Province\, 28850\, Spain
END:VEVENT
END:VCALENDAR