BEGIN:VCALENDAR
VERSION:2.0
PRODID:-//Espacio Mujer Madrid EMMA - ECPv6.10.3//NONSGML v1.0//EN
CALSCALE:GREGORIAN
METHOD:PUBLISH
X-WR-CALNAME:Espacio Mujer Madrid EMMA
X-ORIGINAL-URL:https://www.espaciomujermadrid.es
X-WR-CALDESC:Eventos para Espacio Mujer Madrid EMMA
REFRESH-INTERVAL;VALUE=DURATION:PT1H
X-Robots-Tag:noindex
X-PUBLISHED-TTL:PT1H
BEGIN:VTIMEZONE
TZID:Europe/Madrid
BEGIN:DAYLIGHT
TZOFFSETFROM:+0100
TZOFFSETTO:+0200
TZNAME:CEST
DTSTART:20250330T010000
END:DAYLIGHT
BEGIN:STANDARD
TZOFFSETFROM:+0200
TZOFFSETTO:+0100
TZNAME:CET
DTSTART:20251026T010000
END:STANDARD
END:VTIMEZONE
BEGIN:VEVENT
DTSTART;TZID=Europe/Madrid:20251125T173000
DTEND;TZID=Europe/Madrid:20251204T193000
DTSTAMP:20260425T195327
CREATED:20251114T093319Z
LAST-MODIFIED:20251114T093319Z
UID:7101-1764091800-1764876600@www.espaciomujermadrid.es
SUMMARY:Chatea con las Inteligencias Artificiales
DESCRIPTION:Os presentamos este nuevo taller destinado a mejorar vuestro conocimiento sobre la Inteligencia artificial y su uso seguro y práctico como una herramienta más para el día a día. \nSerán un total de 4 sesiones impartidas por de Aula Digital\, de la Comunidad de Madrid\, quetendrán lugar los martes y jueves del 25 de septiembre al 4 de diciembre de 17.30 a 19.30 horas. \nAbandona la sensación de quedarte atrás con el mundo digital y aprende trucos que te ayuden asacarle el máximo partido. ¡Os esperamos! \nEs imprescindible acudir con puntualidad a las actividades. \nPara consultarnos cualquier duda o para realizar inscripciones\, contáctanos en este mismo correoelectrónico o llámanos por teléfono al 917856234 facilitándonos tu NOMBRE COMPLETO\,DOCUMENTO DE IDENTIDAD y NÚMERO DE TELÉFONO. \n			\n			\n				\n				\n				\n				\n			\n				\n				\n				\n				\n				\n				\n				\n				\n				\n				\n				Inscríbete\n			\n			\n				\n				\n				\n				\n				\n			\n				\n				\n				\n				\n				\n			\n				\n				\n				\n				\n			\n				\n				\n				\n				\n				\n				\n				Inscripción\n			\n			\n				\n				\n				\n				\n				\n				\n				\n				\n				\n				\n			\n			\n				\n				\n				\n				\n			\n				\n				\n				\n				\n				\n				\n				\n				\n				\n				\n				Inscripciones:\nTlf. 91 785 62 34\nemma@fundacionjosemariadellanos.es
URL:https://www.espaciomujermadrid.es/evento/chatea-con-las-inteligencias-artificiales/
LOCATION:EMMA – Espacio Mujer Madrid\, C/ Martos\, 185\, Madrid\, Madrid Province\, 28850\, Spain
END:VEVENT
BEGIN:VEVENT
DTSTART;TZID=Europe/Madrid:20251203T100000
DTEND;TZID=Europe/Madrid:20251205T133000
DTSTAMP:20260425T195327
CREATED:20251202T083308Z
LAST-MODIFIED:20251202T083339Z
UID:7166-1764756000-1764941400@www.espaciomujermadrid.es
SUMMARY:Aprende a manejar la Inteligencia Artificial
DESCRIPTION:¿Quieres fortalecer tus competencias digitales y perder el miedo a la Inteligencia Artificial?Abrimos un nuevo taller práctico para aprender a manejar herramientas de IA de forma sencilla y útil para tu día a día. Será impartido por Aula Digital. \nFormación: competencias digitales avanzadas – Inteligencia Artificial Miércoles 3 y viernes 5 de diciembreDe 10:00 a 13:30Jueves 4 de diciembre habrá prácticas desde casa \nUn espacio seguro y acompañado\, pensado para que explores nuevas oportunidades\, mejores tu autonomía digital y descubras cómo la tecnología también puede ser una aliada para ti. \nPara consultarnos cualquier duda o para realizar inscripciones\, sólo tienes que contestar a este mismo correo electrónico o llamarnos por teléfono al 917856234\, facilitándonos los datos ya mencionados y vuestro NOMBRE COMPLETO\, NÚMERO DE TELÉFONO. \n Es imprescindible acudir con puntualidad a las actividades. \nPlazas limitadas \n			\n			\n				\n				\n				\n				\n			\n				\n				\n				\n				\n				\n				\n				\n				\n				\n				\n				Inscríbete\n			\n			\n				\n				\n				\n				\n				\n			\n				\n				\n				\n				\n				\n			\n				\n				\n				\n				\n			\n				\n				\n				\n				\n				\n				\n				Inscripción\n			\n			\n				\n				\n				\n				\n				\n				\n				\n				\n				\n				\n			\n			\n				\n				\n				\n				\n			\n				\n				\n				\n				\n				\n				\n				\n				\n				\n				\n				Inscripciones:\nTlf. 91 785 62 34\nemma@fundacionjosemariadellanos.es
URL:https://www.espaciomujermadrid.es/evento/aprende-a-manejar-la-inteligencia-artificial/
LOCATION:EMMA – Espacio Mujer Madrid\, C/ Martos\, 185\, Madrid\, Madrid Province\, 28850\, Spain
END:VEVENT
END:VCALENDAR