BEGIN:VCALENDAR
VERSION:2.0
PRODID:-//Espacio Mujer Madrid EMMA - ECPv6.10.3//NONSGML v1.0//EN
CALSCALE:GREGORIAN
METHOD:PUBLISH
X-WR-CALNAME:Espacio Mujer Madrid EMMA
X-ORIGINAL-URL:https://www.espaciomujermadrid.es
X-WR-CALDESC:Eventos para Espacio Mujer Madrid EMMA
REFRESH-INTERVAL;VALUE=DURATION:PT1H
X-Robots-Tag:noindex
X-PUBLISHED-TTL:PT1H
BEGIN:VTIMEZONE
TZID:Europe/Madrid
BEGIN:DAYLIGHT
TZOFFSETFROM:+0100
TZOFFSETTO:+0200
TZNAME:CEST
DTSTART:20240331T010000
END:DAYLIGHT
BEGIN:STANDARD
TZOFFSETFROM:+0200
TZOFFSETTO:+0100
TZNAME:CET
DTSTART:20241027T010000
END:STANDARD
END:VTIMEZONE
BEGIN:VEVENT
DTSTART;TZID=Europe/Madrid:20241216T103000
DTEND;TZID=Europe/Madrid:20241216T123000
DTSTAMP:20260422T080855
CREATED:20241201T222108Z
LAST-MODIFIED:20241213T084222Z
UID:4909-1734345000-1734352200@www.espaciomujermadrid.es
SUMMARY:Trabajo en equipo
DESCRIPTION:En este taller aprenderás competencias básicas para el día a día en un puesto de trabajo que implique trabajar con más gente a través de la novedosa metodología  Lego Serious Play.  Crearemos un espacio para fortalecer habilidades colaborativas y comunicativas de una manera divertida y creativa\, logrando soluciones orientadas al trabajo en equipo y al empleo a través de la metodología Lego Serious Play. Después del taller podrás: \n\nEscuchar con respeto las opiniones y creencias de otras personas y construir soluciones a partir de ellas.\nTrabajar con los/las demás sin crear conflictos.\nIntercambiar información con los miembros del equipo.\nIntegrar a los/las nuevos/as compañeros/as para que pongan al tanto de las actividades.\n\n			\n			\n				\n				\n				\n				\n			\n				\n				\n				\n				\n				\n				\n				\n				\n				\n				\n				Inscríbete\n			\n				Formulario de inscripción
URL:https://www.espaciomujermadrid.es/evento/trabajo-en-equipo/
LOCATION:EMMA – Espacio Mujer Madrid\, C/ Martos\, 185\, Madrid\, Madrid Province\, 28850\, Spain
CATEGORIES:Taller
END:VEVENT
END:VCALENDAR