BEGIN:VCALENDAR
VERSION:2.0
PRODID:-//Espacio Mujer Madrid EMMA - ECPv6.10.3//NONSGML v1.0//EN
CALSCALE:GREGORIAN
METHOD:PUBLISH
X-ORIGINAL-URL:https://www.espaciomujermadrid.es
X-WR-CALDESC:Eventos para Espacio Mujer Madrid EMMA
REFRESH-INTERVAL;VALUE=DURATION:PT1H
X-Robots-Tag:noindex
X-PUBLISHED-TTL:PT1H
BEGIN:VTIMEZONE
TZID:Europe/Madrid
BEGIN:DAYLIGHT
TZOFFSETFROM:+0100
TZOFFSETTO:+0200
TZNAME:CEST
DTSTART:20240331T010000
END:DAYLIGHT
BEGIN:STANDARD
TZOFFSETFROM:+0200
TZOFFSETTO:+0100
TZNAME:CET
DTSTART:20241027T010000
END:STANDARD
END:VTIMEZONE
BEGIN:VEVENT
DTSTART;TZID=Europe/Madrid:20241219T103000
DTEND;TZID=Europe/Madrid:20241219T123000
DTSTAMP:20260422T081040
CREATED:20241204T131847Z
LAST-MODIFIED:20241213T084443Z
UID:4983-1734604200-1734611400@www.espaciomujermadrid.es
SUMMARY:Toma de decisiones
DESCRIPTION:Este taller está diseñado para explorar cómo los enfoques de género influyen en los procesos de toma de decisiones y en el liderazgo en el ámbito laboral.  \nA lo largo de la sesión\, se abordarán las miradas y desafíos que enfrentan las mujeres dentro de esta área. Además\, se aportarán herramientas prácticas para desarrollar habilidades de liderazgo que integren la perspectiva de género\, creándose un espacio de comunicación y reflexión que favorezca el desarrollo de entornos más justos y colaborativos en el ámbito laboral. \n			\n			\n				\n				\n				\n				\n			\n				\n				\n				\n				\n				\n				\n				\n				\n				\n				\n				Inscríbete\n			\n			\n				\n				\n				\n				\n				\n			\n				\n				\n				\n				\n				\n			\n				\n				\n				\n				\n			\n				\n				\n				\n				\n				\n				\n				Formulario de inscripción
URL:https://www.espaciomujermadrid.es/evento/toma-de-decisiones/
LOCATION:EMMA – Espacio Mujer Madrid\, C/ Martos\, 185\, Madrid\, Madrid Province\, 28850\, Spain
CATEGORIES:Taller
END:VEVENT
END:VCALENDAR