BEGIN:VCALENDAR
VERSION:2.0
PRODID:-//Espacio Mujer Madrid EMMA - ECPv6.10.3//NONSGML v1.0//EN
CALSCALE:GREGORIAN
METHOD:PUBLISH
X-ORIGINAL-URL:https://www.espaciomujermadrid.es
X-WR-CALDESC:Eventos para Espacio Mujer Madrid EMMA
REFRESH-INTERVAL;VALUE=DURATION:PT1H
X-Robots-Tag:noindex
X-PUBLISHED-TTL:PT1H
BEGIN:VTIMEZONE
TZID:Europe/Madrid
BEGIN:DAYLIGHT
TZOFFSETFROM:+0100
TZOFFSETTO:+0200
TZNAME:CEST
DTSTART:20250330T010000
END:DAYLIGHT
BEGIN:STANDARD
TZOFFSETFROM:+0200
TZOFFSETTO:+0100
TZNAME:CET
DTSTART:20251026T010000
END:STANDARD
END:VTIMEZONE
BEGIN:VEVENT
DTSTART;TZID=Europe/Madrid:20250110T103000
DTEND;TZID=Europe/Madrid:20250110T123000
DTSTAMP:20260423T134759
CREATED:20241223T183843Z
LAST-MODIFIED:20250103T161547Z
UID:5068-1736505000-1736512200@www.espaciomujermadrid.es
SUMMARY:Taller de Habilidades de Comunicación
DESCRIPTION:La comunicación va mucho más allá de la transmisión de mensajes a un receptor.En este taller trabajaremos como comunicar es\, en realidad\, un acto de construirpercepciones acerca de todo lo que nos rodea. \nLo que decimos y cómo lo decimos\, así como nuestros gestos y expresionescorporales forman parte de nuestra identidad y definen nuestro estilocomunicativo. Tener la habilidad de trasladar lo que pensamos es una cualidad muy importante en nuestra vida cotidiana y también en el mundo laboral. \nA través de una metodología dinámica y participativa aprenderemos juntas aelaborar discursos\, resolver conflictos con asertividad y expresarnos de formaefectiva\, convirtiendo la comunicación en una fortaleza para nuestra búsqueda deempleo. \n			\n			\n				\n				\n				\n				\n			\n				\n				\n				\n				\n				\n				\n				\n				\n				\n				\n				Inscríbete\n			\n			\n				\n				\n				\n				\n				\n			\n				\n				\n				\n				\n				\n			\n				\n				\n				\n				\n			\n				\n				\n				\n				\n				\n				\n				Formulario de inscripción
URL:https://www.espaciomujermadrid.es/evento/taller-de-habilidades-de-comunicacion/
LOCATION:EMMA – Espacio Mujer Madrid\, C/ Martos\, 185\, Madrid\, Madrid Province\, 28850\, Spain
END:VEVENT
BEGIN:VEVENT
DTSTART;TZID=Europe/Madrid:20250114T173000
DTEND;TZID=Europe/Madrid:20250114T193000
DTSTAMP:20260423T134759
CREATED:20241223T184332Z
LAST-MODIFIED:20250108T092714Z
UID:5075-1736875800-1736883000@www.espaciomujermadrid.es
SUMMARY:Taller sobre Motivación para la Búsqueda Activa de Empleo
DESCRIPTION:La finalidad de esta sesión consiste en entender el término de motivación y reflexionar sobre cómo influye en el proceso de búsqueda de empleo. ¿Qué significa estar motivada? ¿Cómo influye la motivación en el proceso de búsqueda de empleo? \nExplicaremos los tipos de motivación que existen y los principales factores y barreras que afectan a la misma: emocionales\, psicológicos\, sociales y personales. \nTambién abordaremos estrategias para mantener la motivación y ayudaremos a las participantes para identificar y transformar creencias limitantes que puedan reducir su motivación mediante un ejercicio de reestructuración cognitiva. El taller será dinámico y estimulante. \n			\n			\n				\n				\n				\n				\n			\n				\n				\n				\n				\n				\n				\n				\n				\n				\n				\n				Inscríbete\n			\n			\n				\n				\n				\n				\n				\n			\n				\n				\n				\n				\n				\n			\n				\n				\n				\n				\n			\n				\n				\n				\n				\n				\n				\n				Formulario de inscripción
URL:https://www.espaciomujermadrid.es/evento/taller-sobre-motivacion-para-la-busqueda-activa-de-empleo/
LOCATION:EMMA – Espacio Mujer Madrid\, C/ Martos\, 185\, Madrid\, Madrid Province\, 28850\, Spain
END:VEVENT
BEGIN:VEVENT
DTSTART;TZID=Europe/Madrid:20250116T103000
DTEND;TZID=Europe/Madrid:20250116T123000
DTSTAMP:20260423T134759
CREATED:20241223T184915Z
LAST-MODIFIED:20250113T165803Z
UID:5083-1737023400-1737030600@www.espaciomujermadrid.es
SUMMARY:Taller sobre Identidad y Autoestima
DESCRIPTION:En este taller se plantea en primer lugar\, el concepto de autoestima como elemento clave para la construcción de la identidad propia y la imagen que ofrecemos a los demás. La percepción que tenemos sobre nosotras mismas juega un rol fundamental a la hora de enfrentarnos al mundo laboral en muchos ámbitos: desde la forma en la que elaboramos nuestra marca profesional\, la manera en la que abordamos una entrevista de trabajo e incluso cómo afrontamos esos primeros días en un nuevo empleo. \nEn segundo lugar\, realizaremos una reflexión acerca de los efectos que tiene el desempleo en nuestra autoestima a nivel psicológico\, relacional y social. También\, veremos herramientas de utilidad para lidiar con ellos y mantener una relación y diálogo interno más positivo con nosotras mismas. Para abordar estos dos puntos utilizaremos una metodología centrada en el empoderamiento colectivo a través de varias dinámicas de autoconocimiento y refuerzo personal. \n			\n			\n				\n				\n				\n				\n			\n				\n				\n				\n				\n				\n				\n				\n				\n				\n				\n				Inscríbete\n			\n			\n				\n				\n				\n				\n				\n			\n				\n				\n				\n				\n				\n			\n				\n				\n				\n				\n			\n				\n				\n				\n				\n				\n				\n				Formulario de inscripción
URL:https://www.espaciomujermadrid.es/evento/taller-sobre-identidad-y-autoestima/
LOCATION:Madrid Province
END:VEVENT
BEGIN:VEVENT
DTSTART;TZID=Europe/Madrid:20250120T103000
DTEND;TZID=Europe/Madrid:20250121T133000
DTSTAMP:20260423T134759
CREATED:20250112T224312Z
LAST-MODIFIED:20250112T224316Z
UID:5137-1737369000-1737466200@www.espaciomujermadrid.es
SUMMARY:Taller de Competencias digitales y seguridad informática
DESCRIPTION:En un mundo cada vez más conectado\, desarrollar las competencias digitales es esencial para desenvolverse con éxito tanto en la vida personal como profesional. Este taller\, te permitirá adquirir habilidades prácticas para el uso eficaz de herramientas digitales. Además\, aprenderás a aprovechar al máximo las tecnologías para tu desarrollo profesional y personal. \nLa seguridad informática también será un eje clave de esta sesión. Abordaremos cómo proteger tus datos personales\, reconocer ciberamenazas comunes y prevenir fraudes online. Queremos que te sientas segura al utilizar la tecnología en tu día a día. Al finalizar este taller\, estarás mejor preparada para enfrentar los desafíos digitales y convertir la tecnología en tu mejor aliada. \n			\n			\n				\n				\n				\n				\n			\n				\n				\n				\n				\n				\n				\n				\n				\n				\n				\n				Inscríbete\n			\n			\n				\n				\n				\n				\n				\n			\n				\n				\n				\n				\n				\n			\n				\n				\n				\n				\n			\n				\n				\n				\n				\n				\n				\n				Formulario de inscripción
URL:https://www.espaciomujermadrid.es/evento/taller-de-competencias-digitales-y-seguridad-informatica/
LOCATION:EMMA – Espacio Mujer Madrid\, C/ Martos\, 185\, Madrid\, Madrid Province\, 28850\, Spain
CATEGORIES:Taller
END:VEVENT
BEGIN:VEVENT
DTSTART;TZID=Europe/Madrid:20250127T093000
DTEND;TZID=Europe/Madrid:20250127T133000
DTSTAMP:20260423T134759
CREATED:20250112T224835Z
LAST-MODIFIED:20250128T092621Z
UID:5148-1737970200-1737984600@www.espaciomujermadrid.es
SUMMARY:Curso de Barista
DESCRIPTION:Sumérgete en el fascinante mundo del café\, aprendiendo sobre su origen\, variedades y métodos de preparación. Desarrolla habilidades para crear bebidas especiales\, manejar máquinas profesionales y dominar las técnicas de la cafetería\, ofreciendo una experiencia de café única y de calidad. \n			\n			\n				\n				\n				\n				\n			\n				\n				\n				\n				\n				\n				\n				\n				\n				\n				\n				Inscríbete\n			\n			\n				\n				\n				\n				\n				\n			\n				\n				\n				\n				\n				\n			\n				\n				\n				\n				\n			\n				\n				\n				\n				\n				\n				\n				Formulario de inscripción
URL:https://www.espaciomujermadrid.es/evento/curso-de-barista/
LOCATION:EMMA – Espacio Mujer Madrid\, C/ Martos\, 185\, Madrid\, Madrid Province\, 28850\, Spain
END:VEVENT
BEGIN:VEVENT
DTSTART;TZID=Europe/Madrid:20250129T103000
DTEND;TZID=Europe/Madrid:20250129T123000
DTSTAMP:20260423T134759
CREATED:20250120T101320Z
LAST-MODIFIED:20250121T105929Z
UID:5183-1738146600-1738153800@www.espaciomujermadrid.es
SUMMARY:Taller de Sostenibilidad y Medioambiente
DESCRIPTION:Taller orientado a concienciar a las participantes sobre la importancia de la sostenibilidad\, fomentando prácticas responsables con el medioambiente. \nContaremos con la colaboración de HUB EMPLEO VERDE para conocer los empleos comprometidos con el medio ambiente\, la sostenibilidad y la economía circular. \nAdemás\, nos explicarán el proyecto desarrollado por KONECTA con IBM y la oportunidad de realizar entrevista laboral \n			\n			\n				\n				\n				\n				\n			\n				\n				\n				\n				\n				\n				\n				\n				\n				\n				\n				Inscríbete\n			\n			\n				\n				\n				\n				\n				\n			\n				\n				\n				\n				\n				\n			\n				\n				\n				\n				\n			\n				\n				\n				\n				\n				\n				\n				Formulario de inscripción
URL:https://www.espaciomujermadrid.es/evento/taller-de-sostenibilidad-y-medioambiente/
LOCATION:EMMA – Espacio Mujer Madrid\, C/ Martos\, 185\, Madrid\, Madrid Province\, 28850\, Spain
END:VEVENT
END:VCALENDAR