BEGIN:VCALENDAR
VERSION:2.0
PRODID:-//Espacio Mujer Madrid EMMA - ECPv6.10.3//NONSGML v1.0//EN
CALSCALE:GREGORIAN
METHOD:PUBLISH
X-ORIGINAL-URL:https://www.espaciomujermadrid.es
X-WR-CALDESC:Eventos para Espacio Mujer Madrid EMMA
REFRESH-INTERVAL;VALUE=DURATION:PT1H
X-Robots-Tag:noindex
X-PUBLISHED-TTL:PT1H
BEGIN:VTIMEZONE
TZID:Europe/Madrid
BEGIN:DAYLIGHT
TZOFFSETFROM:+0100
TZOFFSETTO:+0200
TZNAME:CEST
DTSTART:20250330T010000
END:DAYLIGHT
BEGIN:STANDARD
TZOFFSETFROM:+0200
TZOFFSETTO:+0100
TZNAME:CET
DTSTART:20251026T010000
END:STANDARD
END:VTIMEZONE
BEGIN:VEVENT
DTSTART;TZID=Europe/Madrid:20250204T103000
DTEND;TZID=Europe/Madrid:20250205T133000
DTSTAMP:20260423T121933
CREATED:20250120T102015Z
LAST-MODIFIED:20250123T084915Z
UID:5188-1738665000-1738762200@www.espaciomujermadrid.es
SUMMARY:Taller de Canales de Comunicación y Multimedia
DESCRIPTION:Descubre cómo mejorar tu comunicación y hacer un uso eficiente de las herramientas multimedia en este taller diseñado para potenciar tus habilidades. A lo largo de esta formación\, aprenderás a identificar los principales canales de comunicación disponibles y a utilizarlos de manera estratégica según tus necesidades personales o profesionales. \n¿Qué aprenderás? \n\nLos diferentes canales de comunicación y su impacto en el día a día.\nHerramientas multimedia para comunicar de manera efectiva.\nCómo utilizar plataformas digitales y redes sociales para potenciar tu mensaje.\nEstrategias para transmitir ideas de manera clara y profesional.\n\nFechas: 4 ó 5 de febrero de  10:30 a 13:30h \n			\n			\n				\n				\n				\n				\n			\n				\n				\n				\n				\n				\n				\n				\n				\n				\n				\n				Inscríbete\n			\n			\n				\n				\n				\n				\n				\n			\n				\n				\n				\n				\n				\n			\n				\n				\n				\n				\n			\n				\n				\n				\n				\n				\n				\n				Formulario de inscripción
URL:https://www.espaciomujermadrid.es/evento/taller-de-canales-de-comunicacion-y-multimedia/
LOCATION:EMMA – Espacio Mujer Madrid\, C/ Martos\, 185\, Madrid\, Madrid Province\, 28850\, Spain
END:VEVENT
BEGIN:VEVENT
DTSTART;TZID=Europe/Madrid:20250210T093000
DTEND;TZID=Europe/Madrid:20250221T143000
DTSTAMP:20260423T121933
CREATED:20250123T101606Z
LAST-MODIFIED:20250123T101606Z
UID:5237-1739179800-1740148200@www.espaciomujermadrid.es
SUMMARY:Curso de Pastelería
DESCRIPTION:Descubre el Arte de la Pastelería y Repostería \nAdéntrate en el mundo de la pastelería y la repostería con nuestro curso diseñado para aprender desde la base. Conocerás las materias primas esenciales\, su correcto uso y los métodos de conservación que garantizan la máxima calidad en tus creaciones. Este curso te permitirá familiarizarte con los ingredientes clave y sus propiedades\, ofreciéndote las herramientas necesarias para combinarlos de manera perfecta en cada receta. \nAprenderás técnicas fundamentales como el horneo\, la manipulación y la elaboración de masas\, cremas\, tartas\, galletas y más. Descubre los secretos detrás de texturas esponjosas\, masas con volumen y una consistencia impecable\, explorando los tiempos y temperaturas adecuados para cada preparación. \n			\n			\n				\n				\n				\n				\n			\n				\n				\n				\n				\n				\n				\n				\n				\n				\n				\n				Inscríbete\n			\n			\n				\n				\n				\n				\n				\n			\n				\n				\n				\n				\n				\n			\n				\n				\n				\n				\n			\n				\n				\n				\n				\n				\n				\n				Formulario de inscripción
URL:https://www.espaciomujermadrid.es/evento/curso-de-pasteleria/
LOCATION:EMMA – Espacio Mujer Madrid\, C/ Martos\, 185\, Madrid\, Madrid Province\, 28850\, Spain
END:VEVENT
BEGIN:VEVENT
DTSTART;TZID=Europe/Madrid:20250211T103000
DTEND;TZID=Europe/Madrid:20250211T123000
DTSTAMP:20260423T121933
CREATED:20250120T102349Z
LAST-MODIFIED:20250124T091028Z
UID:5193-1739269800-1739277000@www.espaciomujermadrid.es
SUMMARY:Taller de Planificación y Gestión del Tiempo
DESCRIPTION:En este taller hablaremos de maneras de optimizar nuestra planificación de los tiempos\, analizando con perspectiva de género la raíz de la diferenciación de la gestión del tiempo entre hombres y mujeres\, abordando temas como la  carga mental\, la doble o triple jornada\, la corresponsabilidad y conciliación. \nAdemás\, también se aportarán consejos y trucos para poder mejorar estos procesos. \n			\n			\n				\n				\n				\n				\n			\n				\n				\n				\n				\n				\n				\n				\n				\n				\n				\n				Inscríbete\n			\n			\n				\n				\n				\n				\n				\n			\n				\n				\n				\n				\n				\n			\n				\n				\n				\n				\n			\n				\n				\n				\n				\n				\n				\n				Formulario de inscripción
URL:https://www.espaciomujermadrid.es/evento/taller-de-planificacion-y-gestion-del-tiempo/
LOCATION:EMMA – Espacio Mujer Madrid\, C/ Martos\, 185\, Madrid\, Madrid Province\, 28850\, Spain
END:VEVENT
BEGIN:VEVENT
DTSTART;TZID=Europe/Madrid:20250220T103000
DTEND;TZID=Europe/Madrid:20250220T123000
DTSTAMP:20260423T121933
CREATED:20250130T102627Z
LAST-MODIFIED:20250212T125703Z
UID:5284-1740047400-1740054600@www.espaciomujermadrid.es
SUMMARY:Taller de Capacidad de relación
DESCRIPTION:Taller de capacidad de relación enfocado a la superación de procesos de selección. \nEste taller dirigido a mujeres desempleadas en búsqueda activa de empleo tiene como objetivo es empoderarlas\, ayudándolas a reconocer sus habilidades y capacidades relacionales\, venciendo sus inseguridades y preparándolas para superar con éxito procesos de selección. \nDurante el desarrollo de la sesión se brindarán herramientas para afrontar entrevistas de trabajo con confianza\, a través de técnicas y estrategias para transformar habilidades personales o de la vida cotidiana en fortalezas laborales. Para conseguirlo\, se realizarán simulaciones de entrevistas de trabajo y se retroalimentará de manera positiva y constructiva a las participantes para mejorar y reforzar su autoconfianza. \n			\n			\n				\n				\n				\n				\n			\n				\n				\n				\n				\n				\n				\n				\n				\n				\n				\n				Inscríbete\n			\n			\n				\n				\n				\n				\n				\n			\n				\n				\n				\n				\n				\n			\n				\n				\n				\n				\n			\n				\n				\n				\n				\n				\n				\n				Formulario de inscripción
URL:https://www.espaciomujermadrid.es/evento/taller-de-capacidad-de-relacion/
LOCATION:EMMA – Espacio Mujer Madrid\, C/ Martos\, 185\, Madrid\, Madrid Province\, 28850\, Spain
END:VEVENT
BEGIN:VEVENT
DTSTART;TZID=Europe/Madrid:20250225T103000
DTEND;TZID=Europe/Madrid:20250225T123000
DTSTAMP:20260423T121933
CREATED:20250130T104259Z
LAST-MODIFIED:20250130T104340Z
UID:5299-1740479400-1740486600@www.espaciomujermadrid.es
SUMMARY:Taller de Inteligencia emocional y motivación
DESCRIPTION:En este taller profundizaremos en qué es la inteligencia emocional\, qué la compone y cómo podemos potenciarla para la gestión emocional\, de tal manera que nos ayude a regularnos\, por un lado\, y por otro\, a mantener una buena motivación ante las diferentes situaciones de la vida. También abordaremos las creencias limitantes y cómo poder hacerlas frente. \n			\n			\n				\n				\n				\n				\n			\n				\n				\n				\n				\n				\n				\n				\n				\n				\n				\n				Inscríbete\n			\n			\n				\n				\n				\n				\n				\n			\n				\n				\n				\n				\n				\n			\n				\n				\n				\n				\n			\n				\n				\n				\n				\n				\n				\n				Formulario de inscripción
URL:https://www.espaciomujermadrid.es/evento/taller-de-inteligencia-emocional-y-motivacion/
LOCATION:EMMA – Espacio Mujer Madrid\, C/ Martos\, 185\, Madrid\, Madrid Province\, 28850\, Spain
END:VEVENT
END:VCALENDAR