BEGIN:VCALENDAR
VERSION:2.0
PRODID:-//Espacio Mujer Madrid EMMA - ECPv6.10.3//NONSGML v1.0//EN
CALSCALE:GREGORIAN
METHOD:PUBLISH
X-ORIGINAL-URL:https://www.espaciomujermadrid.es
X-WR-CALDESC:Eventos para Espacio Mujer Madrid EMMA
REFRESH-INTERVAL;VALUE=DURATION:PT1H
X-Robots-Tag:noindex
X-PUBLISHED-TTL:PT1H
BEGIN:VTIMEZONE
TZID:Europe/Madrid
BEGIN:DAYLIGHT
TZOFFSETFROM:+0100
TZOFFSETTO:+0200
TZNAME:CEST
DTSTART:20250330T010000
END:DAYLIGHT
BEGIN:STANDARD
TZOFFSETFROM:+0200
TZOFFSETTO:+0100
TZNAME:CET
DTSTART:20251026T010000
END:STANDARD
END:VTIMEZONE
BEGIN:VEVENT
DTSTART;TZID=Europe/Madrid:20250305T103000
DTEND;TZID=Europe/Madrid:20250305T133000
DTSTAMP:20260421T122102
CREATED:20250219T163255Z
LAST-MODIFIED:20250219T164308Z
UID:5341-1741170600-1741181400@www.espaciomujermadrid.es
SUMMARY:Curso de Manipulación de Alimentos
DESCRIPTION:Garantiza la seguridad y calidad en el manejo de los alimentos \nEl Carnet de Manipulación de Alimentos es un requisito imprescindible para quienes trabajan en sectores como la hostelería\, la restauración\, la industria alimentaria y cualquier actividad relacionada con la manipulación y distribución de alimentos. \nEn este curso\, aprenderás los conocimientos esenciales para garantizar la seguridad alimentaria en todas las etapas del proceso\, desde la preparación hasta el almacenamiento y el servicio. \n¿Qué aprenderás? \n\nNormas higiénicas fundamentales en la manipulación de alimentos.\nControl de contaminantes y prevención de riesgos alimentarios.\nBuenas prácticas para asegurar alimentos seguros y de calidad.\nRequisitos legales y normativas vigentes en el sector.\n\nObtén tu certificado y accede a nuevas oportunidades laborales en el sector alimentario. \n			\n			\n				\n				\n				\n				\n			\n				\n				\n				\n				\n				\n				\n				\n				\n				\n				\n				Inscríbete\n			\n			\n				\n				\n				\n				\n			\n				\n				\n				\n				\n				\n				\n				Formulario de inscripción
URL:https://www.espaciomujermadrid.es/evento/curso-de-manipulacion-de-alimentos/
LOCATION:EMMA – Espacio Mujer Madrid\, C/ Martos\, 185\, Madrid\, Madrid Province\, 28850\, Spain
END:VEVENT
BEGIN:VEVENT
DTSTART;TZID=Europe/Madrid:20250305T173000
DTEND;TZID=Europe/Madrid:20250305T193000
DTSTAMP:20260421T122102
CREATED:20250225T162955Z
LAST-MODIFIED:20250225T164531Z
UID:5369-1741195800-1741203000@www.espaciomujermadrid.es
SUMMARY:Taller de Habilidades sociales
DESCRIPTION:Las habilidades sociales son fundamentales en el entorno laboral\, ya que facilitan las interacciones y relaciones dentro de la organización\, además\, influyen directamente en el rendimiento\, la productividad y el bienestar general de los empleados. Como principales\, cabe destacar la capacidad de trabajo en equipo\, la resiliencia\, la comunicación efectiva\, la adaptabilidad y la flexibilidad. Para garantizar el conocimiento y la adquisición de estas\, se llevarán a cabo dinámicas de entrenamiento en las que se simulen situaciones típicas de un contexto laboral. \nEste taller nos permitirá adaptarnos mejor a un mercado laboral cada vez más exigente y competitivo\, aprendiendo estrategias y técnicas para soportar la presión laboral\, aumentar la productividad\, adaptarnos a cambios\, aprender de los fracasos\, en definitiva\, para adoptar una actitud más positiva y proactiva en el trabajo y mejorar la salud mental y emocional. \n			\n			\n				\n				\n				\n				\n			\n				\n				\n				\n				\n				\n				\n				\n				\n				\n				\n				Inscríbete\n			\n			\n				\n				\n				\n				\n				\n			\n				\n				\n				\n				\n				\n			\n				\n				\n				\n				\n			\n				\n				\n				\n				\n				\n				\n				Formulario de inscripción
URL:https://www.espaciomujermadrid.es/evento/taller-de-habilidades-sociales/
LOCATION:EMMA – Espacio Mujer Madrid\, C/ Martos\, 185\, Madrid\, Madrid Province\, 28850\, Spain
END:VEVENT
BEGIN:VEVENT
DTSTART;TZID=Europe/Madrid:20250311T103000
DTEND;TZID=Europe/Madrid:20250311T123000
DTSTAMP:20260421T122102
CREATED:20250225T163429Z
LAST-MODIFIED:20250225T164500Z
UID:5375-1741689000-1741696200@www.espaciomujermadrid.es
SUMMARY:Taller de Resolución de Conflictos
DESCRIPTION:Tiene como objetivo analizar cómo los conflictos en el entorno de trabajo pueden estar influenciados en las dinámicas de género. A lo largo del taller se abordará la influencia que pueden tener las dinámicas de género presentes en la sociedad en la gestión de los conflictos. Así mismo\, se trabajarán estrategias de comunicación inclusiva\, negociación y mediación que favorezcan un ambiente laboral más justo y respetuoso. \n			\n			\n				\n				\n				\n				\n			\n				\n				\n				\n				\n				\n				\n				\n				\n				\n				\n				Inscríbete\n			\n			\n				\n				\n				\n				\n				\n			\n				\n				\n				\n				\n				\n			\n				\n				\n				\n				\n			\n				\n				\n				\n				\n				\n				\n				Formulario de inscripción
URL:https://www.espaciomujermadrid.es/evento/taller-de-resolucion-de-conflictos/
LOCATION:EMMA – Espacio Mujer Madrid\, C/ Martos\, 185\, Madrid\, Madrid Province\, 28850\, Spain
END:VEVENT
BEGIN:VEVENT
DTSTART;TZID=Europe/Madrid:20250318T103000
DTEND;TZID=Europe/Madrid:20250318T123000
DTSTAMP:20260421T122102
CREATED:20250311T172938Z
LAST-MODIFIED:20250311T173858Z
UID:5600-1742293800-1742301000@www.espaciomujermadrid.es
SUMMARY:Taller de Habilidades Sociales y Resolución de conflictos
DESCRIPTION:Las habilidades sociales juegan un papel fundamental en el ámbito laboral\, ya que permiten una comunicación efectiva\, fomentan el trabajo en equipo y contribuyen a un entorno de trabajo más saludable y productivo. Sin embargo\, los conflictos pueden surgir en cualquier espacio\, y en muchas ocasiones\, las dinámicas de género influyen en la forma en que se generan y se gestionan. Este taller ofrece herramientas clave para mejorar la comunicación\, la negociación y la mediación\, promoviendo un ambiente laboral más justo\, equitativo y respetuoso. \nA través de dinámicas prácticas\, exploraremos cómo abordar los conflictos desde una perspectiva de género\, aprendiendo estrategias que permitan transformar las diferencias en oportunidades de crecimiento. Si buscas fortalecer tus habilidades y mejorar la resolución de conflictos en tu entorno profesional\, este taller es para ti.  \n			\n			\n				\n				\n				\n				\n			\n				\n				\n				\n				\n				\n				\n				\n				\n				\n				\n				Inscríbete\n			\n			\n				\n				\n				\n				\n				\n			\n				\n				\n				\n				\n				\n			\n				\n				\n				\n				\n			\n				\n				\n				\n				\n				\n				\n				Formulario de inscripción
URL:https://www.espaciomujermadrid.es/evento/taller-de-habilidades-sociales-y-resolucion-de-conflictos/
LOCATION:EMMA – Espacio Mujer Madrid\, C/ Martos\, 185\, Madrid\, Madrid Province\, 28850\, Spain
END:VEVENT
BEGIN:VEVENT
DTSTART;TZID=Europe/Madrid:20250320T100000
DTEND;TZID=Europe/Madrid:20250320T120000
DTSTAMP:20260421T122102
CREATED:20250225T163728Z
LAST-MODIFIED:20250225T164418Z
UID:5381-1742464800-1742472000@www.espaciomujermadrid.es
SUMMARY:Taller de Escucha Activa
DESCRIPTION:Este taller se va a centrar en mejorar las habilidades de comunicación mediante la escucha atenta y empática. Durante la sesión\, se abordarán las claves principales de la escucha activa\, así como sus beneficios. Las mujeres participantes podrán adquirir herramientas para practicar una escucha efectiva que pueda permitir mejorar su capacidad de concentración y comunicación con otras personas. \n			\n			\n				\n				\n				\n				\n			\n				\n				\n				\n				\n				\n				\n				\n				\n				\n				\n				Inscríbete\n			\n			\n				\n				\n				\n				\n				\n			\n				\n				\n				\n				\n				\n			\n				\n				\n				\n				\n			\n				\n				\n				\n				\n				\n				\n				Formulario de inscripción
URL:https://www.espaciomujermadrid.es/evento/taller-de-escucha-activa/
LOCATION:EMMA – Espacio Mujer Madrid\, C/ Martos\, 185\, Madrid\, Madrid Province\, 28850\, Spain
END:VEVENT
BEGIN:VEVENT
DTSTART;TZID=Europe/Madrid:20250320T120000
DTEND;TZID=Europe/Madrid:20250320T140000
DTSTAMP:20260421T122102
CREATED:20250310T222130Z
LAST-MODIFIED:20250310T222315Z
UID:5583-1742472000-1742479200@www.espaciomujermadrid.es
SUMMARY:Taller de Gestión del Estrés
DESCRIPTION:El propósito del taller es ayudar a las participantes a identificar y gestionar el estrés de forma efectiva\, brindándoles herramientas prácticas para gestionar su ansiedad\, aumentar su bienestar y mejorar su capacidad para enfrentar los retos diarios. Tras explicar el concepto\, se diferenciará entre estrés positivo y negativo y se hará hincapié en las causas más comunes del estrés\, especialmente en mujeres\ndesempleadas. \nSe invitará a las participantes a reflexionar sobre las situaciones que les generan más estrés y se discutirá en grupo para validar sus experiencias. \nFinalmente\, se les enseñará técnicas de autoobservación para identificar las señales cuando empiezan a sentirse estresadas\, así como una breve explicación de técnicas de respiración profunda\, Mindfulness y atención plena. \nEl objetivo de este taller es que las participantes tomen conciencia de la importancia del autocuidado.\n			\n			\n				\n				\n				\n				\n			\n				\n				\n				\n				\n				\n				\n				\n				\n				\n				\n				Inscríbete\n			\n			\n				\n				\n				\n				\n				\n			\n				\n				\n				\n				\n				\n			\n				\n				\n				\n				\n			\n				\n				\n				\n				\n				\n				\n				Formulario de inscripción
URL:https://www.espaciomujermadrid.es/evento/taller-de-gestion-del-estres/
LOCATION:EMMA – Espacio Mujer Madrid\, C/ Martos\, 185\, Madrid\, Madrid Province\, 28850\, Spain
CATEGORIES:Taller
END:VEVENT
BEGIN:VEVENT
DTSTART;TZID=Europe/Madrid:20250327T103000
DTEND;TZID=Europe/Madrid:20250327T123000
DTSTAMP:20260421T122102
CREATED:20250321T101558Z
LAST-MODIFIED:20250324T132728Z
UID:5640-1743071400-1743078600@www.espaciomujermadrid.es
SUMMARY:Taller de Normativa Laboral
DESCRIPTION:Comprender la normativa laboral es esencial para garantizar un empleo digno y protegido. En este taller\, exploraremos los aspectos clave de la legislación laboral\, incluyendo tipos de contratos\, derechos y obligaciones\, prevención de riesgos laborales y cómo actuar ante situaciones de abuso o incumplimiento. A través de una metodología práctica\, se proporcionarán herramientas para que las participantes puedan desenvolverse con seguridad en el ámbito laboral. \nAdemás\, abordaremos la importancia de la perspectiva de género en la normativa laboral\, identificando desigualdades y barreras que afectan a las mujeres en el empleo. El objetivo es que cada participante adquiera el conocimiento necesario para defender sus derechos y fomentar entornos de trabajo más equitativos y justos. \n			\n			\n				\n				\n				\n				\n			\n				\n				\n				\n				\n				\n				\n				\n				\n				\n				\n				Inscríbete\n			\n			\n				\n				\n				\n				\n				\n			\n				\n				\n				\n				\n				\n			\n				\n				\n				\n				\n			\n				\n				\n				\n				\n				\n				\n				Formulario de inscripción
URL:https://www.espaciomujermadrid.es/evento/taller-de-normativa-laboral/
LOCATION:EMMA – Espacio Mujer Madrid\, C/ Martos\, 185\, Madrid\, Madrid Province\, 28850\, Spain
END:VEVENT
BEGIN:VEVENT
DTSTART;TZID=Europe/Madrid:20250331T153000
DTEND;TZID=Europe/Madrid:20250404T193000
DTSTAMP:20260421T122102
CREATED:20250304T125449Z
LAST-MODIFIED:20250319T155302Z
UID:5566-1743435000-1743795000@www.espaciomujermadrid.es
SUMMARY:Curso de Auxiliar de Colectividades
DESCRIPTION:Fórmate para trabajar en cocina colectiva y servicios de alimentación \nEl curso de Auxiliar de Colectividades te preparará para gestionar la preparación de alimentos en grandes volúmenes\, aplicando técnicas específicas para cocina colectiva y planificación de menús equilibrados. \n¿Qué aprenderás? \n\nElaboración de menús saludables y balanceados.\nTécnicas de cocina para grandes colectividades.\nManejo de porciones y optimización de recursos.\nGarantía de calidad y seguridad alimentaria en cada plato.\n\nSalidas profesionales: \n\nComedores escolares.\nResidencias y hospitales.\nEmpresas de catering.\nServicios de alimentación colectiva.\n\nInscríbete y accede a nuevas oportunidades laborales en el sector alimentario. \n			\n			\n				\n				\n				\n				\n			\n				\n				\n				\n				\n				\n				\n				\n				\n				\n				\n				Inscríbete\n			\n			\n				\n				\n				\n				\n				\n			\n				\n				\n				\n				\n				\n			\n				\n				\n				\n				\n			\n				\n				\n				\n				\n				\n				\n				Formulario de inscripción
URL:https://www.espaciomujermadrid.es/evento/curso-de-auxiliar-de-colectividades/
LOCATION:EMMA – Espacio Mujer Madrid\, C/ Martos\, 185\, Madrid\, Madrid Province\, 28850\, Spain
END:VEVENT
END:VCALENDAR